Workbook

Sheet GV
C1: Tổng số | D1: =SUM(D2:D5) -> 237 | J1: Đào tạo, BD chứng chỉ nghề quốc gia
C2: GV cơ hữu | D2: 176 | J2: Đào tạo, BD ngoại ngữ
C3: GV hợp đồng | D3: 2 | J3: Chuẩn tin học
C4: GV thỉnh giảng | D4: 15 | J4: -chuẩn GDNN
C5: GV kiêm chức | D5: 44 | J5: -chuẩn trường CLC
C6: Trình độ | J6: Chuẩn năng lực sư phạm
C7: Cơ hữu+kiêm chức | E7: Tỉ lệ | J7: Nghiệp vụ
C8: Tiến sĩ | D8: 2 | E8: =(D8*100%)/D1 -> 0.0084388186 | F8: 0.01 | J8: - Tiến sĩ (35.000USD)
C9: Thạc sĩ | D9: 130 | E9: =(D9*100%)/D2 -> 0.73863636 | F9: 0.74 | J9: - Thạc sĩ (30.000DGD)
C10: Đại học | D10: 89 | E10: =(D10*100%)/D1 -> 0.37552743 | F10: 0.38 | J10: Dào tạo CB đạt chứng chỉ quản lý dạy nghề
C11: Cao đẳng | D11: 1 | E11: =(D11*100%)/D4 -> 0.066666667 | F11: 0.005
C12: Thỉnh giảng
C13: Thạc sĩ | D13: 6
C14: Đại học | D14: 9
A17: - PHƯƠNG ÁN 1 | J17: 8250
A18: BẢNG XÁC ĐỊNH NHU CẦU TUYỂN GV 2017-2018 | J18: 1202
J19: =J17-J18 -> 7048
A20: STT | B20: GDCN | E20: GDNN
A21: 1 | B21: Số lượng HS-SV hiện có | D21: 8250
B22: -CĐ | D22: 5706 | E22: -CĐ | F22: 272
B23: -CĐLT | D23: 122 | E23: -TC | F23: 1111 | J23: 220000000000
B24: -TCCN | D24: 1039 | J24: 143000
B25: TỔNG | D25: =SUM(D22:D24) -> 6867 | F25: =SUM(F22:F24) -> 1383 | J25: =J23/J24 -> 1538461.5
B26: TỔNG 2 HỆ | D26: =D25+F25 -> 8250
B27: TN 2017 | D27: 1375 | E27: Tuyển mới | F27: 3000
F28: =SUM(F24:F27) -> 4383
A29: 2 | B29: Số HS-SV sau TN 2017 | D29: =D25-D27 -> 5492 | F29: =F28 -> 4383
A30: 3 | B30: GV cần có | D30: =D29/30 -> 183.06667 | F30: =F28/20 -> 219.15 | G30: =D30+F30 -> 402.21667 | J30: 6000000
A31: 4 | B31: GV hiện có | D31: =D32+D33 -> 110 | F31: =SUM(F32:F34) -> 141 | J31: 143000
B32: -ĐH | C32: 45 | D32: =C32 -> 45 | F32: 53 | J32: =J30*J31 -> 858000000000
B33: -Ths | C33: 50 | D33: =C33*1.3 -> 65 | F33: 86
B34: -TS | F34: 2
B35: Tổng (60% cơ hữu) | D35: =D30*60/100 -> 109.84 | F35: =F30*60/100 -> 131.49
A36: 5 | B36: Tuyển thêm | D36: =D30-D35 -> 73.226667 | F36: =F30-F31 -> 78.15
B37: - Thỉnh giảng | D37: 73 | F37: 68
B38: - Cơ hữu | F38: =F31-F35 -> 9.51
A39: 6 | B39: Tổng số tuyển thêm GV 2 hệ
B40: - Cơ hữu | C40: =D38+F38 -> 9.51
B41: - Thỉnh giảng | C41: =D37+F37 -> 141
B43: Kế hoạch tuyển mới GV
B45: GV | C45: 2017 | D45: 2018 | E45: 2019 | F45: 2020 | G45: 2021 | H45: 2022
B46: Qui mô HS | C46: 9875 | D46: 9881 | E46: 9900 | F46: 10000 | G46: 10100 | H46: 11200
B47: Tổng số GV | C47: =G30 -> 402.21667 | D47: 402 | E47: =E46/20 -> 495 | F47: =F46/20 -> 500 | G47: =G46/20 -> 505 | H47: =H46/20 -> 560
B48: Hiện có | C48: 251 | D48: =C48+C50 -> 261 | E48: =D48+D50 -> 291 | F48: =E48+E50 -> 321 | G48: =F48 -> 321 | H48: =G48+G50 -> 351
B49: Tuyển thêm | C49: 151 | D49: =D47-D48 -> 141 | E49: =E47-E48 -> 204 | F49: =F47-F48 -> 179 | G49: =G47-G48 -> 184 | H49: =H47-H48 -> 209
B50: Cơ hữu | C50: 10 | D50: 30 | E50: 30 | F50: 30 | G50: 30 | H50: 30
B51: Thỉnh giảng | C51: =C49-C50 -> 141 | D51: =D49-D50 -> 111 | E51: =E49-E50 -> 174 | F51: =F49-F50 -> 149 | G51: =G49-G50 -> 154 | H51: =H49-H50 -> 179
B53: TRÌNH ĐỘ TUYỂN MỚI
B55: NỘI DUNG | C55: 2017 | D55: 2018 | E55: 2019 | F55: 2020 | G55: 2021 | H55: 2022
B56: Tổng số | C56: 10 | D56: 30 | E56: 30 | F56: 30 | G56: 30 | H56: 30
B57: ĐH | C57: 7
B58: Ths | C58: 2 | D58: 28 | E58: 28 | F58: 28 | G58: 28 | H58: 28
B59: TS | C59: 1 | D59: 2 | E59: 2 | F59: 2 | G59: 2 | H59: 2
B61: SỐ LƯỢNG TRÌNH ĐỘ SAU TUYỂN MỚI
B62: HIỆN CÓ | C62: 2017 | D62: 2018 | E62: 2019 | F62: 2020 | G62: 2021 | H62: 2022
A63: ĐH | B63: 89 | C63: =B63+C57 -> 96 | D63: =C63+D57 -> 96 | E63: =D63+E57 -> 96 | F63: =E63+F57 -> 96 | G63: =F63+G57 -> 96 | H63: =G63+H57 -> 96
A64: Ths | B64: 130 | C64: =B64+C58 -> 132 | D64: =C64+D58 -> 160 | E64: =D64+E58 -> 188 | F64: =E64+F58 -> 216 | G64: =F64+G58 -> 244 | H64: =G64+H58 -> 272
A65: TS | B65: 2 | C65: =B65+C59 -> 3 | D65: =C65+D59 -> 5 | E65: =D65+E59 -> 7 | F65: =E65+F59 -> 9 | G65: =F65+G59 -> 11 | H65: =G65+H59 -> 13
B66: TỔNG SỐ | C66: 251 | D66: =SUM(D63:D65) -> 261 | E66: =SUM(E63:E65) -> 291 | F66: =SUM(F63:F65) -> 321 | G66: =SUM(G63:G65) -> 351 | H66: =SUM(H63:H65) -> 381
B67: (Năm 2017 có qui đổi)
B69: HIỆN CÓ | C69: 2017 | D69: 2018 | E69: 2019 | F69: 2020 | G69: 2021 | H69: 2022
A70: Ths | B70: 130 | C70: =C64 -> 132 | D70: =D64 -> 160 | E70: =E64 -> 188 | F70: =F64 -> 216 | G70: =G64 -> 244 | H70: =H64 -> 272
A71: TS | B71: 2 | C71: 3 | D71: 5 | E71: 7 | F71: 9 | G71: 11 | H71: 13
A72: TỔNG | B72: =SUM(B70:B71) -> 132 | C72: =SUM(C70:C71) -> 135 | D72: =SUM(D70:D71) -> 165 | E72: =SUM(E70:E71) -> 195 | F72: =SUM(F70:F71) -> 225 | G72: =SUM(G70:G71) -> 255 | H72: =SUM(H70:H71) -> 285
C73: =(C72*100%)/C66 -> 0.53784861 | D73: =(D72*100%)/D66 -> 0.63218391 | E73: =(E72*100%)/E66 -> 0.67010309 | F73: =(F72*100%)/F66 -> 0.70093458 | G73: =(G72*100%)/G66 -> 0.72649573 | H73: =(H72*100%)/H66 -> 0.7480315

Sheet QUIMOHS
A2: TUYỂN SINH | B2: 2017 | C2: 2018 | D2: 2019 | E2: 2020 | F2: 2021 | G2: 2022
A3: CS1 | B3: =B9 -> 3000 | C3: =C9 -> 3600 | D3: =D9 -> 4000 | E3: =E9 -> 4000 | F3: =F9 -> 4000 | G3: =G9 -> 4500
A4: CS2 | G4: 1000
A5: TỔNG CỘNG | B5: =SUM(B3:B4) -> 3000 | C5: =SUM(C3:C4) -> 3600 | D5: =SUM(D3:D4) -> 4000 | E5: =SUM(E3:E4) -> 4000 | F5: =SUM(F3:F4) -> 4000 | G5: =SUM(G3:G4) -> 5500
A8: QUI MÔ | B8: 2017 | C8: 2018 | D8: 2019 | E8: 2020 | F8: 2021 | G8: 2022
A9: KHÓA MỚI | B9: =B10+B11 -> 3000 | C9: =C10+C11 -> 3600 | D9: =D10+D11 -> 4000 | E9: =E10+E11 -> 4000 | F9: =F10+F11 -> 4000 | G9: =G10+G11 -> 4500
A10: CĐ | B10: 1550 | C10: 1500 | D10: ='HS2'!E66 -> 2000 | E10: ='HS2'!F66 -> 2000 | F10: ='HS2'!G66 -> 2000 | G10: ='HS2'!H66 -> 2000
A11: TC | B11: 1450 | C11: 2100 | D11: ='HS2'!E135 -> 2000 | E11: ='HS2'!F135 -> 2000 | F11: ='HS2'!G135 -> 2000 | G11: ='HS2'!H135 -> 2500
A12: -TC1 | B12: 300 | D12: 600 | E12: 900 | F12: 1000 | G12: 1000
A13: -TC1,5 | B13: 400 | C13: 1000 | D13: 400 | E13: 400 | F13: 500 | G13: 1000
A14: -TC 3 | B14: 750 | C14: 1100 | D14: 1000 | E14: 700 | F14: 500 | G14: 500
A15: KHÓA CŨ | B15: =B24-B19 -> 6875 | C15: =B15-C19 -> 3581 | D15: =C15-D19 -> 0
A16: QUI MÔ | B16: =B9+B15 -> 9875 | C16: =(B16+C9)-C21 -> 9881 | D16: =(C16+D9)-D21 -> 9900 | E16: =(D16+E9)-E21 -> 10000 | F16: =(E16+F9)-F21 -> 10100 | G16: =(F16+G9)-G21 -> 10200
A18: Tốt nghiệp | B18: 2017 | C18: 2018 | D18: 2019 | E18: 2020 | F18: 2021 | G18: 2022 | H18: TỔNG
A19: GDCN | B19: 1375 | C19: 3294 | D19: 3581 | H19: =SUM(B19:G19) -> 8250
C20: =B12 -> 300 | D20: =B13+C12 -> 400 | E20: =B10+B14+C13+D12 -> 3900 | F20: =C10+C14+D13+E12 -> 3900 | G20: =D10+D14+E13+F12 -> 4400 | H20: =SUM(B20:G20) -> 12900
A21: CỘNG 2 HỆ | B21: =B19+B20 -> 1375 | C21: =C19+C20 -> 3594 | D21: =D19+D20 -> 3981 | E21: =E19+E20 -> 3900 | F21: =F19+F20 -> 3900 | G21: =G19+G20 -> 4400 | H21: =SUM(B21:G21) -> 21150
A23: TNGDNN | C23: 525 | D23: 975 | E23: 3050 | F23: 4000
B24: 8250 | C24: 6875 | D24: 3581
A25: TN GDCN | B25: 1375 | C25: 3294 | D25: 3581
B26: =B24-B25 -> 6875 | C26: =C24-C25 -> 3581 | D26: 0
A27: Năm | B27: Địa điểm | C27: Số liệu tuyển sinh | F27: Qui mô đào tạo
C28: Tổng cộng | D28: CĐ | E28: TC
A29: 2017 | B29: Cơ sở 1 | C29: =D29+E29 -> 3000 | D29: 1500 | E29: 1500 | F29: =B16 -> 9875
A30: 2018 | B30: Cơ sở 1 | C30: =D30+E30 -> 3600 | D30: 1600 | E30: 2000 | F30: =C16 -> 9881
A31: 2019 | B31: Cơ sở 1 | C31: =D31+E31 -> 4000 | D31: 2000 | E31: 2000 | F31: =D16 -> 9900
A32: 2020 | B32: Cơ sở 1 | C32: =D32+E32 -> 4000 | D32: 2000 | E32: 2000 | F32: =E16 -> 10000
A33: 2021 | B33: Cơ sở 1 | C33: =D33+E33 -> 4000 | D33: 2000 | E33: 2000 | F33: =F16 -> 10100
A34: 2022 | B34: Cơ sở 1 | C34: =D34+E34 -> 4500 | D34: 2000 | E34: 2500 | F34: =G16 -> 10200
B35: Cơ sở 2 | C35: =D35+E35 -> 1000 | D35: 500 | E35: 500 | F35: 1000
A36: CỘNG | C36: =SUM(C29:C35) -> 24100 | D36: =SUM(D29:D35) -> 11600 | E36: =SUM(E29:E35) -> 12500 | F36: =SUM(F29:F35) -> 60956

Sheet HS2
A1: STT | B1: Tên nghề và trình độ đào tạo | C1: Dự kiến tuyển sinh Từ 2017 đến 2022
C2: 2017 | D2: 2018 | E2: 2019 | F2: 2020 | G2: 2021 | H2: 2022
A3: A | B3: Cao đẳng nghề
A4: I | B4: CN KT Điện-Điện tử
A5: 1 | B5: Công nghệ kỹ thuật điện, điện tử | C5: 25 | D5: 25 | E5: 50 | F5: 50 | G5: 50 | H5: 50
A6: 2 | B6: Công nghệ kỹ thuật điều khiển tự động hóa | C6: 50 | D6: 50 | E6: 75 | F6: 75 | G6: 75 | H6: 75
A7: 3 | B7: Kỹ thuật lắp đặt điện và điều khiển trong công nghiệp | C7: 25 | D7: 25 | E7: 25 | F7: 25 | G7: 25 | H7: 25
A8: 4 | B8: Kỹ thuật mạng ngoại vi và thiết bị đầu cuối | C8: 25 | D8: 25 | E8: 25 | F8: 25 | G8: 25 | H8: 25
A9: 5 | B9: Kỹ thuật đài trạm viễn thông | C9: 25 | D9: 25 | E9: 25 | F9: 25 | G9: 25 | H9: 25
A10: 6 | B10: Kỹ thuật truyền dẫn quang và vô tuyến | C10: 25 | D10: 25 | E10: 25 | F10: 25 | G10: 25 | H10: 25
A11: 7 | B11: Điện tử dân dụng | C11: 25 | D11: 25 | E11: 25 | F11: 25 | G11: 25 | H11: 25
A12: 8 | B12: Điện tử công nghiệp | C12: 25 | D12: 25 | E12: 50 | F12: 50 | G12: 50 | H12: 50
A13: 9 | B13: Điện dân dụng | C13: 25 | D13: 25 | E13: 25 | F13: 25 | G13: 25 | H13: 25
A14: 10 | B14: Điện công nghiệp | C14: 25 | D14: 25 | E14: 50 | F14: 50 | G14: 50 | H14: 50
A15: 11 | B15: Sửa chữa thiết bị tự động hóa | C15: 50 | D15: 50 | E15: 50 | F15: 50 | G15: 50 | H15: 50
A16: 12 | B16: Lắp đặt điện công trình | C16: 25 | D16: 25 | E16: 50 | F16: 50 | G16: 50 | H16: 50
... A18: 14 | B18: Kỹ thuật thiết bị điện tử y tế | C18: 25 | D18: 25 | E18: 25 | F18: 25 | G18: 25 | H18: 25
A19: II | B19: CN Kỹ thuật Cơ khí
A20: 1 | B20: Công nghệ kỹ thuật cơ khí | C20: 50 | D20: 50 | E20: 50 | F20: 50 | G20: 50 | H20: 50
A21: 2 | B21: Công nghệ chế tạo máy | C21: 25 | D21: 50 | E21: 50 | F21: 50 | G21: 50 | H21: 50
A22: 3 | B22: Cắt gọt kim loại | C22: 25 | D22: 50 | E22: 50 | F22: 50 | G22: 50 | H22: 50
A23: 4 | B23: Bảo trì thiết bị cơ điện | C23: 25 | D23: 25 | E23: 25 | F23: 25 | G23: 25 | H23: 25
A24: 5 | B24: Bảo trì hệ thống thiết bị công nghiệp | C24: 25 | D24: 25 | E24: 50 | F24: 50 | G24: 50 | H24: 50
A25: II | B25: CN Kỹ thuật Ô tô
A26: 1 | B26: Công nghệ kỹ thuật ô tô | C26: 50 | D26: 50 | E26: 50 | F26: 50 | G26: 50 | H26: 50
A27: 2 | B27: Công nghệ ô tô | C27: 50 | D27: 50 | E27: 50 | F27: 50 | G27: 50 | H27: 50
A28: 3 | B28: Công nghệ sơn tĩnh điện | C28: 25 | D28: 25 | E28: 50 | F28: 50 | G28: 50 | H28: 50
A29: 4 | B29: Lắp ráp ô tô | C29: 25 | D29: 25 | E29: 50 | F29: 50 | G29: 50 | H29: 50
A30: 5 | B30: Sửa chữa máy tàu thủy | C30: 25 | D30: 25 | E30: 25 | F30: 25 | G30: 25 | H30: 25
A31: IV | B31: CN Kỹ thuật Nhiệt-Lạnh
A32: 1 | B32: Công nghệ kỹ thuật nhiệt | C32: 25 | D32: 25 | E32: 50 | F32: 50 | G32: 50 | H32: 50
A33: 2 | B33: Lắp đặt thiết bị lạnh | C33: 25 | D33: 25 | E33: 25 | F33: 25 | G33: 25 | H33: 25
A34: 3 | B34: Kỹ thuật máy lạnh và điều hòa không khí | C34: 25 | D34: 25 | E34: 50 | F34: 50 | G34: 50 | H34: 50
A35: 4 | B35: Vận hành, sửa chữa thiết bị lạnh | C35: 25 | D35: 25 | E35: 25 | F35: 25 | G35: 25 | H35: 25
A36: V | B36: CN Thông tin
A37: 1 | B37: Công nghệ kỹ thuật máy tính | C37: 25 | D37: 25 | E37: 50 | F37: 50 | G37: 50 | H37: 50
A38: 2 | B38: Công nghệ thông tin (ứng dụng phần mềm) | C38: 25 | D38: 25 | E38: 25 | F38: 25 | G38: 25 | H38: 25
A39: 3 | B39: Tin học văn phòng | C39: 25 | D39: 50 | E39: 50 | F39: 50 | G39: 50 | H39: 50
A40: 4 | B40: Quản trị mạng máy tính | C40: 25 | D40: 25 | E40: 50 | F40: 50 | G40: 50 | H40: 50
A41: 5 | B41: Thiết kế đồ họa | C41: 25 | D41: 25 | E41: 25 | F41: 25 | G41: 25 | H41: 25
A42: 6 | B42: Thiết kế trang Web | C42: 25 | D42: 25 | E42: 25 | F42: 25 | G42: 25 | H42: 25
A43: 7 | B43: An ninh mạng | C43: 25 | D43: 25 | E43: 25 | F43: 25 | G43: 25 | H43: 25
A44: VI | B44: CN May- Thời trang
A45: 1 | B45: Công nghệ may | C45: 25 | D45: 25 | E45: 25 | F45: 25 | G45: 25 | H45: 25
A46: 2 | B46: May thời trang | C46: 25 | D46: 25 | E46: 25 | F46: 25 | G46: 25 | H46: 25
A47: 3 | B47: Thiết kế thời trang | C47: 25 | D47: 50 | E47: 50 | F47: 50 | G47: 50 | H47: 50
A48: 4 | B48: Công nghệ may Veston | C48: 25 | D48: 25 | E48: 25 | F48: 25 | G48: 25 | H48: 25
A49: 5 | B49: Kinh tế gia đình | C49: 25 | D49: 25 | E49: 25 | F49: 25 | G49: 25 | H49: 25
A50: VII | B50: Tiếng Anh
A51: 1 | B51: Tiếng Anh | C51: 25 | D51: 25 | E51: 50 | F51: 50 | G51: 50 | H51: 50
A52: 2 | B52: Phiên dịch tiếng Anh thương mại | C52: 25 | D52: 25 | E52: 50 | F52: 50 | G52: 50 | H52: 50
A53: VIII | B53: Kinh tế
A54: 1 | B54: Kinh doanh thương mại và dịch vụ | C54: 25 | D54: 25 | E54: 25 | F54: 25 | G54: 25 | H54: 25
A55: 2 | B55: Quản trị kinh doanh | C55: 25 | D55: 25 | E55: 25 | F55: 25 | G55: 25 | H55: 25
A56: 3 | B56: Marketing | C56: 25 | D56: 25 | E56: 25 | F56: 25 | G56: 25 | H56: 25
A57: 4 | B57: Marketing thương mại | C57: 25 | D57: 25 | E57: 25 | F57: 25 | G57: 25 | H57: 25
A58: 5 | B58: Quản trị bán hàng | C58: 25 | D58: 25 | E58: 25 | F58: 25 | G58: 25 | H58: 25
A59: 6 | B59: Tài chính doanh nghiệp | C59: 25 | D59: 25 | E59: 25 | F59: 25 | G59: 25 | H59: 25
A60: 7 | B60: Tài chính - Ngân hàng | C60: 25 | D60: 25 | E60: 25 | F60: 25 | G60: 25 | H60: 25
A61: 8 | B61: Kế toán doanh nghiệp | C61: 25 | D61: 25 | E61: 50 | F61: 50 | G61: 50 | H61: 50
A62: 9 | B62: Kế toán ngân hàng | C62: 25 | D62: 25 | E62: 25 | F62: 25 | G62: 25 | H62: 25
A63: 10 | B63: Kiểm toán | C63: 25 | D63: 25 | E63: 25 | F63: 25 | G63: 25 | H63: 25
A64: 11 | B64: Quản trị doanh nghiệp vừa và nhỏ | C64: 25 | D64: 25 | E64: 50 | F64: 50 | G64: 50 | H64: 50
A65: IX | B65: Kỹ thuật xây dựng | C65: 25 | D65: 25 | E65: 25 | F65: 25 | G65: 25 | H65: 25
B66: CỘNG A | C66: =SUM(C5:C65) -> 1500 | D66: =SUM(D5:D65) -> 1600 | E66: =SUM(E5:E65) -> 2000 | F66: =SUM(F5:F65) -> 2000 | G66: =SUM(G5:G65) -> 2000 | H66: =SUM(H5:H65) -> 2000
A67: B | B67: TRUNG CẤP NGHỀ
A68: I | B68: CN KT Điện-Điện tử
A69: 1 | B69: Công nghệ kỹ thuật điện, điện tử | C69: 25 | D69: 25 | E69: 25 | F69: 25 | G69: 25 | H69: 25
A70: 2 | B70: Công nghệ kỹ thuật điều khiển tự động hóa | C70: 25 | D70: 50 | E70: 50 | F70: 50 | G70: 50 | H70: 75
A71: 3 | B71: Kỹ thuật lắp đặt điện và điều khiển trong công nghiệp | C71: 25 | D71: 25 | E71: 25 | F71: 25 | G71: 25 | H71: 50
A72: 4 | B72: Kỹ thuật mạng ngoại vi và thiết bị đầu cuối | C72: 25 | D72: 25 | E72: 25 | F72: 25 | G72: 25 | H72: 50
A73: 5 | B73: Kỹ thuật đài trạm viễn thông | C73: 25 | D73: 25 | E73: 25 | F73: 25 | G73: 25 | H73: 25
A74: 6 | B74: Kỹ thuật truyền dẫn quang và vô tuyến | C74: 25 | D74: 25 | E74: 25 | F74: 25 | G74: 25 | H74: 25
A75: 7 | B75: Điện tử dân dụng | C75: 25 | D75: 50 | E75: 50 | F75: 50 | G75: 50 | H75: 50
A76: 8 | B76: Điện tử công nghiệp | C76: 25 | D76: 50 | E76: 50 | F76: 50 | G76: 50 | H76: 50
A77: 9 | B77: Điện dân dụng | C77: 25 | D77: 50 | E77: 50 | F77: 50 | G77: 50 | H77: 50
A78: 10 | B78: Điện công nghiệp | C78: 25 | D78: 50 | E78: 50 | F78: 50 | G78: 50 | H78: 50
A79: 11 | B79: Sửa chữa thiết bị tự động hóa | C79: 25 | D79: 50 | E79: 50 | F79: 50 | G79: 50 | H79: 75
A80: 12 | B80: Lắp đặt điện công trình | C80: 25 | D80: 25 | E80: 25 | F80: 25 | G80: 25 | H80: 50
... A82: 14 | B82: Kỹ thuật thiết bị điện tử y tế | C82: 25 | D82: 25 | E82: 25 | F82: 25 | G82: 25 | H82: 25
A83: II | B83: CN Kỹ thuật Cơ khí
A84: 1 | B84: Công nghệ kỹ thuật cơ khí | C84: 25 | D84: 50 | E84: 50 | F84: 50 | G84: 50 | H84: 75
A85: 2 | B85: Công nghệ chế tạo dụng cụ | C85: 25 | D85: 50 | E85: 50 | F85: 50 | G85: 50 | H85: 50
A86: 3 | B86: Công nghệ hàn | C86: 25 | D86: 25 | E86: 25 | F86: 25 | G86: 25 | H86: 50
A87: 4 | B87: Cắt gọt kim loại | C87: 25 | D87: 50 | E87: 50 | F87: 50 | G87: 50 | H87: 50
A88: 5 | B88: Bảo trì thiết bị cơ điện | C88: 25 | D88: 50 | E88: 50 | F88: 50 | G88: 50 | H88: 75
A89: 6 | B89: Bảo trì hệ thống thiết bị công nghiệp | C89: 25 | D89: 50 | E89: 50 | F89: 50 | G89: 50 | H89: 75
A90: III | B90: CN Kỹ thuật Ô tô
A91: 1 | B91: Công nghệ kỹ thuật ô tô - máy kéo | C91: 25 | D91: 50 | E91: 50 | F91: 50 | G91: 50 | H91: 75
A92: 2 | B92: Công nghệ ô tô | C92: 25 | D92: 50 | E92: 50 | F92: 50 | G92: 50 | H92: 75
A93: 3 | B93: Công nghệ sơn tĩnh điện | C93: 25 | D93: 25 | E93: 25 | F93: 25 | G93: 25 | H93: 50
A94: 4 | B94: Công nghệ sơn ô tô | C94: 25 | D94: 25 | E94: 25 | F94: 25 | G94: 25 | H94: 50
A95: 5 | B95: Lắp ráp ô tô | C95: 25 | D95: 50 | E95: 50 | F95: 50 | G95: 50 | H95: 50
A96: 6 | B96: Sửa chữa máy tàu thủy | C96: 25 | D96: 25 | E96: 25 | F96: 25 | G96: 25 | H96: 25
A97: 7 | B97: Bảo trì và sữa chữa khung, vỏ ô tô | C97: 25 | D97: 25 | E97: 25 | F97: 25 | G97: 25 | H97: 25
A98: 8 | B98: Bảo trì và sữa chữa xe máy | C98: 50 | D98: 50 | E98: 50 | F98: 50 | G98: 50 | H98: 75
A99: 9 | B99: Bảo trì và sữa chữa máy bay | C99: 25 | D99: 25 | E99: 25 | F99: 25 | G99: 25 | H99: 25
A100: 10 | B100: Bảo trì và sữa chữa máy xây dựng và máy nâng chuyển | C100: 25 | D100: 25 | E100: 25 | F100: 25 | G100: 25 | H100: 50
A101: IV | B101: CN Kỹ thuật Nhiệt-Lạnh
A102: 1 | B102: Công nghệ kỹ thuật nhiệt | C102: 25 | D102: 50 | E102: 50 | F102: 50 | G102: 50 | H102: 50
...

Sheet GIAOTRINH
A2: NGHỀ | B2: 61
A3: CHƯƠNG TRÌNH | B3: =SUM(B4:B5) -> 244
A4: -CĐ | B4: 61
A5: -TC (03 CẤP HỌC) | B5: =61*3 -> 183
A6: GIÁO TRÌNH
A7: -CĐ (35 giáo trình/nghề | B7: =B2*35 -> 2135
A8: -TC (90 giáo trình/nghề | B8: =B2*90 -> 5490
A16: Tin học | B16: TC3 | C16: 2200000 | E16: =C16*D16 -> 0
A17: Ngoại ngữ | B17: ToEIC 350 | C17: 8000000
B18: ToEIC 450 | C18: 10000000
A19: Chuyên ngành | B19: Thạc sĩ 1-1,5 năm | C19: 464943300 | D19: =C19*20 -> 9298866000
B20: 30.000SGD
B21: (Tỉ giá15.498,11)
B22: Tiến sĩ 35.000USD | C22: 797300000 | D22: =C22*10 -> 7973000000
B23: (Tỉ giá 22.780) | C23: Biên soạn
A24: PHUONG AN 1 | E24: Chương trình | F24: Giáo trình 30CĐ,TC20*3bậc)
A25: Chương trình | B25: CNTT | C25: 7 | E25: =C25*36000000 -> 252000000 | F25: 90 | G25: =F25*C25 -> 630 | H25: =G25*30*20000 -> 378000000
B26: Tiếng Anh | C26: 2 | E26: =C26*36000000 -> 72000000 | F26: 90 | G26: =F26*C26 -> 180 | H26: =G26*30*20000 -> 108000000
B27: Kinh tế | C27: 10 | E27: =C27*36000000 -> 360000000 | F27: 90 | G27: =F27*C27 -> 900 | H27: =G27*30*20000 -> 540000000
B28: Cơ kh | C28: 6 | E28: =C28*36000000 -> 216000000 | F28: 90 | G28: =F28*C28 -> 540 | H28: =G28*30*20000 -> 324000000
B29: Động lực | C29: 11 | E29: =C29*36000000 -> 396000000 | F29: 90 | G29: =F29*C29 -> 990 | H29: =G29*30*20000 -> 594000000
B30: Nhiệt lạnh | C30: 4 | E30: =C30*36000000 -> 144000000 | F30: 90 | G30: =F30*C30 -> 360 | H30: =G30*30*20000 -> 216000000
B31: Đ-Đtử | C31: 14 | E31: =C31*36000000 -> 504000000 | F31: 90 | G31: =F31*C31 -> 1260 | H31: =G31*30*20000 -> 756000000
B32: May | C32: 5 | E32: =C32*36000000 -> 180000000 | F32: 90 | G32: =F32*C32 -> 450 | H32: =G32*30*20000 -> 270000000
B33: Xây dựng | C33: 1 | E33: =C33*36000000 -> 36000000 | F33: 90 | G33: =F33*C33 -> 90 | H33: =G33*30*20000 -> 54000000
C34: 60 | E34: =SUM(E25:E33) -> 2160000000 | G34: =SUM(G25:G33) -> 5400 | H34: =SUM(H25:H33) -> 3240000000
E35: 1800g/nghề * 20.000đ/giờ=36.000.000đ/nghề
C36: Thẩm định
A37: Chương trình | C37: Quốc gia | D37: 51 | E37: 20000000 | F37: =E37*D37 -> 1020000000
B38: 30000USD | C38: Khu vực | D38: 4 | E38: 683400000 | F38: =E38*D38 -> 2733600000
C39: Quốc tế | D39: 5 | E39: 683400000 | F39: =E39*D39 -> 3417000000 | H39: =1800*20000 -> 36000000
E40: CỘNG CHI PHÍ THẨM ĐỊNH | F40: =SUM(F37:F39) -> 7170600000
E41: Biên soạn | F41: =E34+H34 -> 5400000000
E42: TONG CONG BIÊN SoẠN+THẨM ĐỊNH | F42: =F40+F41 -> 12570600000
C46: =C45*2 -> 0

Sheet DANHMUCNGHE
A3: Tin học | B3: TC3 | C3: 2200000 | E3: =C3*D3 -> 0
A4: Ngoại ngữ | B4: ToEIC 350 | C4: 8000000
B5: ToEIC 450 | C5: 10000000
A6: Chuyên ngành | B6: Thạc sĩ 1-1,5 năm | C6: 464943300
B7: 30.000SGD
B8: (Tỉ giá15.498,11)
B9: Tiến sĩ 35.000USD | C9: 797300000
B10: (Tỉ giá 22.780)
G11: Giáo trình 35CĐ,TC20)
A12: Chương trình | B12: CNTT | C12: 7 | D12: 2 | E12: =C12*D12 -> 14 | F12: 122 | G12: 50 | H12: =C12*G12 -> 350
B13: Tiếng Anh | C13: 2 | D13: 2 | E13: =C13*D13 -> 4 | F13: 4 | G13: 50 | H13: =C13*G13 -> 100
B14: Kinh tế | C14: 11 | D14: 2 | E14: =C14*D14 -> 22 | F14: =F12*F13 -> 488 | G14: 50 | H14: =C14*G14 -> 550
B15: Cơ kh | C15: 6 | D15: 2 | E15: =C15*D15 -> 12 | G15: 50 | H15: =C15*G15 -> 300
B16: Động lực | C16: 11 | D16: 2 | E16: =C16*D16 -> 22 | G16: 50 | H16: =C16*G16 -> 550
B17: Nhiệt lạnh | C17: 4 | D17: 2 | E17: =C17*D17 -> 8 | G17: 50 | H17: =C17*G17 -> 200
B18: Đ-Đtử | C18: 14 | D18: 2 | E18: =C18*D18 -> 28 | G18: 50 | H18: =C18*G18 -> 700
B19: May | C19: 5 | D19: 2 | E19: =C19*D19 -> 10 | G19: 50 | H19: =C19*G19 -> 250
B20: Xây dựng | C20: 1 | D20: 2 | E20: =C20*D20 -> 2 | G20: 50 | H20: =C20*G20 -> 50
E21: =SUM(E12:E20) -> 122 | H21: =SUM(H12:H20) -> 3050
A22: Giáo trình
A25: KHOA | B25: CHUYÊN NGÀNH | F25: ĐANG ĐÀO TẠO
B26: MÃ Cấp IV | C26: TRUNG CẤP | D26: MÃ Cấp IV | E26: CAO ĐẲNG
A27: CÔNG NGHỆ THÔNG TIN
B28: 25 | C28: Công nghệ kỹ thuật phần cứng máy tính | D28: 25 | E28: Công nghệ kỹ thuật máy tính
B29: 25 | C29: Công nghệ thông tin (ứng dụng phần mềm) | D29: 25 | E29: Công nghệ thông tin (ứng dụng phần mềm)
B30: 25 | C30: Tin học văn phòng | D30: 25 | E30: Tin học văn phòng
B31: 25 | C31: Quản trị mạng máy tính | D31: 50 | E31: Quản trị mạng máy tính
B32: 25 | C32: Thiết kế đồ họa | D32: 25 | E32: Thiết kế đồ họa
B33: 25 | C33: Thiết kế trang Web | D33: 25 | E33: Thiết kế trang Web
B34: 25 | C34: An ninh mạng | D34: 25 | E34: An ninh mạng
A35: TIẾNG ANH
B36: 25 | C36: Tiếng Anh | D36: 25 | E36: Tiếng Anh
B37: 25 | C37: Phiên dịch tiếng Anh thương mại | D37: 25 | E37: Phiên dịch tiếng Anh thương mại
A38: KINH TẾ
B39: 25 | C39: Kinh doanh thương mại và dịch vụ | D39: 25 | E39: Kinh doanh thương mại
D40: 25 | E40: Quản trị kinh doanh
B41: 25 | C41: Marketing | D41: 25 | E41: Marketing
B42: 25 | C42: Marketing thương mại | D42: 25 | E42: Marketing thương mại
B43: 25 | C43: Nghiệp vụ bán hàng | D43: 25 | E43: Quản trị bán hàng
B44: 25 | C44: Tài chính doanh nghiệp | D44: 25 | E44: Tài chính doanh nghiệp
B45: 25 | C45: Tài chính - Ngân hàng | D45: 25 | E45: Tài chính - Ngân hàng
B46: 25 | C46: Kế toán doanh nghiệp | D46: 25 | E46: Kế toán doanh nghiệp
B47: 25 | C47: Kế toán ngân hàng | D47: 25 | E47: Kế toán ngân hàng
B48: 25 | C48: Kiểm toán | D48: 25 | E48: Kiểm toán
B49: 25 | C49: Quản trị doanh nghiệp vừa và nhỏ | D49: 25 | E49: Quản trị doanh nghiệp vừa và nhỏ
A50: CÔNG NGHỆ CƠ KHÍ
B51: 50 | C51: Công nghệ kỹ thuật cơ khí | D51: 25 | E51: Công nghệ kỹ thuật cơ khí
B52: 25 | C52: Công nghệ chế tạo dụng cụ | D52: 25 | E52: Công nghệ chế tạo máy
B53: 25 | C53: Công nghệ hàn
B54: 25 | C54: Cắt gọt kim loại | D54: 25 | E54: Cắt gọt kim loại
B55: 25 | C55: Bảo trì thiết bị cơ điện | D55: 25 | E55: Bảo trì thiết bị cơ điện
B56: 25 | C56: Bảo trì hệ thống thiết bị công nghiệp | D56: 25 | E56: Bảo trì hệ thống thiết bị công nghiệp
A57: CÔNG NGHỆ ĐỘNG LỰC (Đỏ: Quốc tế, vàng khu vực, xanh quốc gia)
B58: 25 | C58: Công nghệ kỹ thuật ô tô - máy kéo | D58: 50 | E58: Công nghệ kỹ thuật ô tô
B59: 50 | C59: Công nghệ ô tô | D59: 25 | E59: Công nghệ ô tô
B60: 25 | C60: Công nghệ sơn tĩnh điện | D60: 25 | E60: Công nghệ sơn tĩnh điện
B61: 25 | C61: Công nghệ sơn ô tô
B62: 25 | C62: Lắp ráp ô tô | D62: 25 | E62: Lắp ráp ô tô
B63: 25 | C63: Sửa chữa máy tàu thủy | D63: 25 | E63: Sửa chữa máy tàu thủy
B64: 25 | C64: Bảo trì và sữa chữa khung, vỏ ô tô
B65: 25 | C65: Bảo trì và sữa chữa xe máy
B66: 25 | C66: Bảo trì và sữa chữa máy bay | G66: Bỏ máy bay
B67: 25 | C67: Bảo trì và sữa chữa máy xây dựng và máy nâng chuyển
A68: CÔNG NGHỆ NHIỆT-LẠNH
B69: 25 | C69: Công nghệ kỹ thuật nhiệt | D69: 25 | E69: Công nghệ kỹ thuật nhiệt
B70: 25 | C70: Lắp đặt thiết bị lạnh | D70: 25 | E70: Lắp đặt thiết bị lạnh
B71: 25 | C71: Kỹ thuật máy lạnh và điều hòa không khí | D71: 25 | E71: Kỹ thuật máy lạnh và điều hòa không khí
B72: 25 | C72: Vận hành, sửa chữa thiết bị lạnh | D72: 25 | E72: Vận hành, sửa chữa thiết bị lạnh
A73: CÔNG NGHỆ ĐIỆN-ĐIỆN TỬ
B74: 25 | C74: Công nghệ kỹ thuật điện, điện tử | D74: 25 | E74: Công nghệ kỹ thuật điện, điện tử
B75: 25 | C75: Công nghệ kỹ thuật điều khiển tự động | D75: 25 | E75: Công nghệ kỹ thuật điều khiển và tự động hóa
B76: 25 | C76: Kỹ thuật lắp đặt điện và điều khiển trong công nghiệp | D76: 25 | E76: Kỹ thuật lắp đặt điện và điều khiển trong công nghiệp
B77: 25 | C77: Kỹ thuật mạng ngoại vi và thiết bị đầu cuối | D77: 25 | E77: Kỹ thuật mạng ngoại vi và thiết bị đầu cuối
B78: 25 | C78: Kỹ thuật đài trạm viễn thông | D78: 25 | E78: Kỹ thuật đài trạm viễn thông
B79: 25 | C79: Kỹ thuật truyền dẫn quang và vô tuyến | D79: 25 | E79: Kỹ thuật truyền dẫn quang và vô tuyến
B80: 25 | C80: Điện tử dân dụng | D80: 25 | E80: Điện tử dân dụng
B81: 50 | C81: Điện tử công nghiệp | D81: 25 | E81: Điện tử công nghiệp
B82: 25 | C82: Điện dân dụng | D82: 25 | E82: Điện dân dụng
B83: 50 | C83: Điện công nghiệp | D83: 25 | E83: Điện công nghiệp
B84: 25 | C84: Sửa chữa thiết bị tự động hóa | D84: 50 | E84: Sửa chữa thiết bị tự động hóa
B85: 25 | C85: Lắp đặt điện công trình | D85: 25 | E85: Lắp đặt điện công trình
... B87: 25 | C87: Kỹ thuật thiết bị điện tử y tế | D87: 25 | E87: Kỹ thuật thiết bị điện tử y tế
A88: CÔNG NGHỆ MAY
B89: 25 | C89: Công nghệ may và thời trang | D89: 25 | E89: Công nghệ may
B90: 25 | C90: May thời trang | D90: 25 | E90: May thời trang
B91: 25 | C91: Thiết kế thời trang | D91: 25 | E91: Thiết kế thời trang
B92: 25 | C92: Công nghệ may Veston | D92: 25 | E92: Công nghệ may Veston
B93: 25 | C93: Kinh tế gia đình | D93: 25 | E93: Kinh tế gia đình
A94: Xây dựng
B95: 25 | C95: Kỹ thuật xây dựng | D95: 25 | E95: Kỹ thuật xây dựng
B96: =SUM(B28:B95) -> 1575 | D96: =SUM(D28:D95) -> 1425 | E96: =B96+D96 -> 3000
A99: GV/HS
A100: - HS tuyển mới | B100: =E96 -> 3000
A101: - HS cũ | B101: 7000
A102: - GV cần trong năm học | B102: =(B100+B101)/20 -> 500

Sheet THIETBI
F2: Động lực
A3: TT | B3: Tên phòng thực hành | C3: Số lượng | D3: Thành tiền | F3: 57679897680 | G3: 32634630000
A4: Nhóm nghề 1 | F4: 32634630000 | G4: 23023510000
A5: 1 | B5: Kỹ thuật chẩn đoán về sửa chữa điện ô tô | C5: 1 | D5: 5437144000 | F5: CNTT
A6: 2 | B6: Kỹ thuật sửa chữa động cơ ô tô | C6: 1 | D6: 22342312880 | F6: 26379880000 | G6: 11239980000
A7: 3 | B7: Bảo trì sửa chữa ô tô | C7: 1 | D7: 26518840800 | F7: May thời trang
B8: Thiết bị dùng chung | D8: 3381600000 | F8: 782579400 | G8: 260859800
B9: Tổng cộng | C9: 3 | D9: =SUM(D5:D8) -> 57679897680 | F9: 1074428400 | G9: 358142800
A10: Nghề Sửa chữa Máy tàu thủy | F10: 1048667900 | G10: 349666900
A11: 1 | B11: Phòng học chuyên đề tàu thủy | C11: 1 | D11: 696425000 | F11: 357762667 | G11: 178881333
A12: 2 | B12: Phòng học chuyên ngành tàu thủy | C12: 1 | D12: 22327085000 | F12: Điện-Điện tử
C13: 2 | D13: =SUM(D11:D12) -> 23023510000 | F13: 1218888888 | G13: 1218888888
A14: Bảo trì và s/c máy XD và máy nâng chuyển | F14: 1382840000 | G14: 1382840000
A15: 1 | B15: Phòng học chuyên đề máy xây dựng và nâng chuyển | C15: 1 | D15: 238200000 | F15: 867500000 | G15: 867500000
A16: 2 | B16: Xưởng thực hành máy xây dựng và nâng chuyển | C16: 1 | D16: 32396430000 | F16: Cơ khí
C17: 2 | D17: =SUM(D15:D16) -> 32634630000 | F17: 1630000000 | G17: 1315000000
A18: Bảo trì và s/c máy bay | F18: 78826400000 | G18: 50967700000
A19: 1 | B19: Phòngthực hành bảo trì và sửa chữa máy bay | C19: 1 | D19: 172571025000 | F19: Nhiệt lạnh
C20: 1 | D20: =SUM(D19:D19) -> 172571025000 | F20: 50000000000 | G20: 50000000000
B21: Tổng thiết bị ngành Ô tô | D21: =D20+D17+D13+D9 -> 285909062680 | F21: =SUM(F3:F20) -> 253883474935 | G21: =SUM(G3:G20) -> 173797599721
G23: =F21+G21 -> 427681074656
F31: ;

Sheet TONGCP(2)
A1: BẢNG TỔNG HỢP CHI PHÍ
A3: TT | B3: NỘI DUNG ĐẦU TƯ | C3: CƠ SỞ 1 | D3: CƠ SỞ 2 | E3: CS1+CS2 | F3: Thuế 10% | G3: Giá trị trước thuế
A4: I | B4: Quản lý | C4: =SUM(C5:C8) -> 36679716000 | E4: =C4+D4 -> 36679716000
A5: 1 | B5: Vận hành hệ thống QL ĐBCL, kiểm định | C5: 5500000000 | E5: =C5+D5 -> 5500000000
A6: 2 | B6: Bồi dưỡng đội ngũ CBQL,GV | C6: 13609116000 | E6: =C6+D6 -> 13609116000
A7: 3 | B7: NCKH | C7: 5000000000 | E7: =C7+D7 -> 5000000000
A8: 4 | B8: Chương trình-giáo trình đào tạo | C8: =GIAOTRINH!F42 -> 12570600000 | E8: =C8+D8 -> 12570600000
A9: II | B9: Cơ sở vật chất | C9: =SUM(C10:C12) -> 533883474935 | E9: =SUM(E10:E12) -> 1245681074656 | F9: =F10+F11+F12 -> 1.2456811e+11 | G9: =E9-F9 -> 1.121113e+12
A10: 1 | B10: Thư viện | C10: 10000000000 | E10: =C10+D10 -> 10000000000 | F10: =E10*10/100 -> 1000000000 | G10: =E10-F10 -> 9000000000
A11: 2 | B11: Xây mới phòng học,xưởng thực hành | C11: 270000000000 | D11: 538000000000 | E11: =C11+D11 -> 808000000000 | F11: =E11*10/100 -> 80800000000 | G11: =E11-F11 -> 727200000000
A12: 3 | B12: Thiết bị dạy học | C12: =THIETBI!F21 -> 253883474935 | D12: =THIETBI!G21 -> 173797599721 | E12: =C12+D12 -> 427681074656 | F12: =E12*10/100 -> 4.2768107e+10 | G12: =E12-F12 -> 3.8491297e+11
A13: III | B13: Chi phí bồi thường giải phóng mặt bằng cơ sở 2 | D13: 61000000000 | E13: =C13+D13 -> 61000000000
A14: IV | B14: Các chi phí tư vấn và chi phí khác | C14: =SUM(C15:C25) -> 0 | E14: =SUM(E15:E25) -> 3.3809667e+10
A15: 1 | B15: Chi phí quản lý DA | D15: (Trừ thuế 10% Tbi+XLắp) | E15: ='nội suy'!B16*'TONGCP(CONGTHUC)'!F13/100 -> 1.082378e+10
A16: 2 | B16: Chi phí lập DA báo cáo khả thi | C16: =(I+II+III)*Hệ số nội suy | D16: (Trừ thuế 10% Tbi+XLắp) | E16: =(G9+E13)*'nội suy'!C16/100 -> 2.8546373e+09
A17: 3 | B17: Chi phí thẩm định giá | C17: Chỉ tính thẩm định trên thiết bị | E17: =(E12*2)/100 -> 8.5536215e+09
A18: 4 | B18: Chi phí lập hồ sơ mời thầu và chi phí lựa chọn nhà thầu TB | E18: ='nội suy'!E16*'TONGCP(CONGTHUC)'!E12/100 -> 2.6678745e+08
B19: Chi phí lập hồ sơ mời thầu và chi phí lựa chọn nhà thầu XD | E19: ='nội suy'!G16*'TONGCP(CONGTHUC)'!E11/100 -> 340846720
A20: 5 | B20: Chi phí phê duyệt, thẩm định kết quả lựa chọn nhà thầu | E20: 50000000
A21: 6 | B21: Chi phí giám sát xây dựng và lắp đặt thiết bị | E21: =D38+D39 -> 8.0602475e+09
A22: 7 | B22: Chi phí thẩm tra thiết kế dự toán | C22: Chỉ tính trên phần XD | E22: ='nội suy'!D25*'TONGCP(CONGTHUC)'!F11/100 -> 212873256
A23: 8 | B23: Chi phí thẩm định dự án | E23: =(E31*F23)/100 -> 15802233 | F23: 0.001
A24: 9 | B24: Chi phí kiểm toán | E24: 1998982497 | F24: =(E31*G24)*1.1/100 -> 1.9989825e+09 | G24: 0.115 | H24: =(E31*G24)*1.1/100 -> 1.9989825e+09
A25: 10 | B25: Chi phí thẩm tra quyết toán | C25: Tổng mức đầu tư*HS nội suy | E25: 632089327 | F25: =(E31*G25)*0.5/100 -> 6.3208933e+08 | G25: 0.08 | H25: =(E31*G25)*0.5/100 -> 6.3208933e+08
A26: V | B26: Chi phí dự phòng | E26: =E27+E28 -> 2.0657557e+11
A27: 1 | B27: Dự phòng cho yếu tố phát sinh khối lượng (10%) | D27: (I+II+III+IV)*10% | E27: =(E4+E9+E13+E14)*10/100 -> 1.3771705e+11
A28: 2 | B28: Dự phòng cho yếu tố trượt giá | D28: (I+II+III+IV)*5% | E28: =(E4+E9+E13+E14)*5/100 -> 6.8858523e+10
B29: Tổng mức đầu tư | C29: =C4+C9+C13+C14+C26 -> 570563190935 | E29: =E4+E9+E13+E14+E26 -> 1.583746e+12
E31: 1580223317995
A32: IV | B32: Các chi phí tư vấn và chi phí khác | C32: =SUM(C33:C42) -> 0
A33: 1 | B33: Chi phí quản lý DA | C33: =(I+II+III)*Hệ số nội suy | D33: (Trừ thuế 10% Tbi+XLắp) | E33: 79
A34: 2 | B34: Chi phí lập DA báo cáo khả thi | C34: =(I+II+III)*Hệ số nội suy | D34: (Trừ thuế 10% Tbi+XLắp) | E34: 79
A35: 3 | B35: Chi phí thẩm định giá | C35: Chỉ tính thẩm định trên thiết bị | E35: 0.02
A36: 4 | B36: Chi phí lập hồ sơ mời thầu và chi phí lựa chọn nhà thầu | E36: 79
A37: 5 | B37: Chi phí phê duyệt, thẩm định kết quả lựa chọn nhà thầu | E37: ND 63 hoặc Luật đấu thâu
A38: 6 | B38: Chi phí giám sát xây dựng | D38: ='nội suy'!A25*'TONGCP(CONGTHUC)'!F11/100 -> 5939595072 | E38: 79
B39: Chi phí lắp đặt thiết bị | D39: ='nội suy'!C25*'TONGCP(CONGTHUC)'!F9/100 -> 2.1206524e+09
A40: 7 | B40: Chi phí thẩm tra thiết kế dự toán | C40: Chỉ tính trên phần XD | E40: TT 75 btc hoac TT 176 BTC
A41: 8 | B41: Chi phí thẩm định dự án | E41: TT 75 btc hoac TT 176 BTC
A42: 9 | B42: Chi phí thẩm tra quyết toán | C42: Tổng mức đầu tư*HS nội suy | D42: 0,08 | E42: TT 09 BTC
A43: V | B43: Chi phí dự phòng | C43: =C44+C45 -> 0 | E43: btc hoac TT 176 BTC
A44: 1 | B44: Dự phòng cho yếu tố phát sinh khối lượng (10%) | D44: (I+II+III+IV)*10%
A45: 2 | B45: Dự phòng cho yếu tố trượt giá | D45: (I+II+III+IV)*5%
B46: Tổng mức đầu tư | C46: =C21+C27+C31+C32+C43 -> 0

Sheet TONGCP(CONGTHUC)
A1: BẢNG TỔNG HỢP CHI PHÍ
A3: TT | B3: NỘI DUNG ĐẦU TƯ | C3: CƠ SỞ 1 | D3: CƠ SỞ 2 | E3: CS1+CS2 | F3: Trừ 10%thuế
A4: I | B4: Quản lý | C4: =SUM(C5:C8) -> 36179716000 | E4: =C4+D4 -> 36179716000 | F4: 24629116000
A5: 1 | B5: Vận hành hệ thống QL ĐBCL | C5: 5000000000 | E5: =C5+D5 -> 5000000000
A6: 2 | B6: Bồi dưỡng đội ngũ CBQL,GV | C6: 13609116000 | E6: =C6+D6 -> 13609116000
A7: 3 | B7: NCKH | C7: 5000000000 | E7: =C7+D7 -> 5000000000
A8: 4 | B8: Chương trình-giáo trình đào tạo | C8: =GIAOTRINH!F42 -> 12570600000 | E8: =C8+D8 -> 12570600000
A9: II | B9: Cơ sở vật chất | C9: =SUM(C10:C12) -> 533883474935 | E9: =SUM(E10:E12) -> 1245681074656 | F9: =E9-G9 -> 1.121113e+12 | G9: =E9*10% -> 1.2456811e+11
A10: 1 | B10: Thư viện | C10: 10000000000 | E10: =C10+D10 -> 10000000000
A11: 2 | B11: Xây mới phòng học,xưởng thực hành | C11: 270000000000 | D11: 538000000000 | E11: =C11+D11 -> 808000000000 | F11: =E11-G11 -> 727200000000 | G11: =E11*10% -> 80800000000
A12: 3 | B12: Thiết bị dạy học | C12: =THIETBI!F21 -> 253883474935 | D12: =THIETBI!G21 -> 173797599721 | E12: =C12+D12 -> 427681074656 | F12: =E12-G12 -> 3.8491297e+11 | G12: =E12*10% -> 4.2768107e+10
A13: III | B13: Chi phí bồi thường giải phóng mặt bằng cơ sở 2 | D13: 61000000000 | E13: =C13+D13 -> 61000000000 | F13: =F4+F9 -> 1.1457421e+12
A14: IV | B14: Các chi phí tư vấn và chi phí khác | C14: =SUM(C15:C24) -> 0 | E14: =SUM(E15:E24) -> 3.0268401e+10
A15: 1 | B15: Chi phí quản lý DA | D15: (Trừ thuế 10% Tbi+XLắp) | E15: ='nội suy'!B16*'TONGCP(CONGTHUC)'!F13/100 -> 1.082378e+10
A16: 2 | B16: Chi phí lập DA báo cáo khả thi | C16: =(I+II+III)*Hệ số nội suy | D16: (Trừ thuế 10% Tbi+XLắp) | E16: ='nội suy'!C16*'TONGCP(CONGTHUC)'!F13/100 -> 2.7668067e+09
A17: 3 | B17: Chi phí thẩm định giá | C17: Chỉ tính thẩm định trên thiết bị | E17: =F12*0.02 -> 7.6982593e+09 | F17: =F19 -> 6.0763417e+08
A18: 4 | B18: Chi phí lập hồ sơ mời thầu và chi phí lựa chọn nhà thầu TB | E18: ='nội suy'!E16*'TONGCP(CONGTHUC)'!E12/100 -> 2.6678745e+08
B19: Chi phí lập hồ sơ mời thầu và chi phí lựa chọn nhà thầu XD | E19: ='nội suy'!G16*'TONGCP(CONGTHUC)'!E11/100 -> 340846720 | F19: =E18+E19 -> 6.0763417e+08
A20: 5 | B20: Chi phí phê duyệt, thẩm định kết quả lựa chọn nhà thầu | E20: 50000000
A21: 6 | B21: Chi phí giám sát xây dựng và lắp đặt thiết bị | E21: =D37+D38 -> 8.0602475e+09
A22: 7 | B22: Chi phí thẩm tra thiết kế dự toán | C22: Chỉ tính trên phần XD | E22: ='nội suy'!D25*'TONGCP(CONGTHUC)'!F11/100 -> 212873256
A23: 8 | B23: Chi phí thẩm định dự án | E23: ='nội suy'!C34*'TONGCP(CONGTHUC)'!E13/100 -> 0
A24: 9 | B24: Chi phí thẩm tra quyết toán | C24: Tổng mức đầu tư*HS nội suy | E24: =E13*0.08/100 -> 48800000
A25: V | B25: Chi phí dự phòng | E25: =E26+E27 -> 1.9681938e+11
A26: 1 | B26: Dự phòng cho yếu tố phát sinh khối lượng (10%) | D26: (I+II+III+IV)*10% | E26: =(E4+E9+E14)*10/100 -> 1.3121292e+11
A27: 2 | B27: Dự phòng cho yếu tố trượt giá | D27: (I+II+III+IV)*5% | E27: =(E4+E9+E14)*5/100 -> 6.560646e+10
B28: Tổng mức đầu tư | C28: =C4+C9+C13+C14+C25 -> 570063190935 | E28: =E4+E9+E14+E25 -> 1.5089486e+12
A31: IV | B31: Các chi phí tư vấn và chi phí khác | C31: =SUM(C32:C41) -> 0
A32: 1 | B32: Chi phí quản lý DA | C32: =(I+II+III)*Hệ số nội suy | D32: (Trừ thuế 10% Tbi+XLắp) | E32: 79
A33: 2 | B33: Chi phí lập DA báo cáo khả thi | C33: =(I+II+III)*Hệ số nội suy | D33: (Trừ thuế 10% Tbi+XLắp) | E33: 79
A34: 3 | B34: Chi phí thẩm định giá | C34: Chỉ tính thẩm định trên thiết bị | E34: 0.02
A35: 4 | B35: Chi phí lập hồ sơ mời thầu và chi phí lựa chọn nhà thầu | E35: 79
A36: 5 | B36: Chi phí phê duyệt, thẩm định kết quả lựa chọn nhà thầu | E36: ND 63 hoặc Luật đấu thâu
A37: 6 | B37: Chi phí giám sát xây dựng | D37: ='nội suy'!A25*'TONGCP(CONGTHUC)'!F11/100 -> 5939595072 | E37: 79
B38: Chi phí lắp đặt thiết bị | D38: ='nội suy'!C25*'TONGCP(CONGTHUC)'!F9/100 -> 2.1206524e+09
A39: 7 | B39: Chi phí thẩm tra thiết kế dự toán | C39: Chỉ tính trên phần XD | E39: TT 75 btc hoac TT 176 BTC
A40: 8 | B40: Chi phí thẩm định dự án | E40: TT 75 btc hoac TT 176 BTC
A41: 9 | B41: Chi phí thẩm tra quyết toán | C41: Tổng mức đầu tư*HS nội suy | D41: 0,08 | E41: TT 09 BTC
A42: V | B42: Chi phí dự phòng | C42: =C43+C44 -> 0 | E42: btc hoac TT 176 BTC
A43: 1 | B43: Dự phòng cho yếu tố phát sinh khối lượng (10%) | D43: (I+II+III+IV)*10%
A44: 2 | B44: Dự phòng cho yếu tố trượt giá | D44: (I+II+III+IV)*5%
B45: Tổng mức đầu tư | C45: =C21+C26+C30+C31+C42 -> 0

Sheet PHANKY
A1: Tiến độ thực hiện và phân kỳ DA
A2: Nội dung dự án | B2: 2017 | C2: 2018 | D2: 2019 | E2: 2020 | F2: 2021 | G2: 2022 | H2: Tổng
A3: Bồi dưỡng GV | B3: 2268186000 | C3: 2268186000 | D3: 2268186000 | E3: 2268186000 | F3: 2268186000 | G3: 2268186000 | H3: =SUM(B3:G3) -> 13609116000
A4: Chương trình, giáo trình | B4: =GIAOTRINH!F41 -> 5400000000 | D4: =GIAOTRINH!F40 -> 7170600000 | H4: =SUM(B4:G4) -> 12570600000
A5: NCKH | B5: 1000000000 | C5: 1000000000 | D5: 1000000000 | E5: 1000000000 | F5: 1000000000 | H5: =SUM(B5:G5) -> 5000000000
A6: Đổi mới HT quản lý | C6: 2000000000 | D6: 3000000000 | H6: =SUM(B6:G6) -> 5000000000
A7: Đầu tư thiết bị dạy học | C7: 153883747935 | D7: 100000000000 | F7: 100000000000 | G7: 73797599721 | H7: =SUM(B7:G7) -> 427681347656
A8: Thu viện | C8: 10000000000 | H8: 10000000000
A9: Xây dựng CSVC | B9: =20000*6000000 -> 120000000000 | C9: =25000*6000000 -> 150000000000 | D9: 186000000000 | E9: =30000*6000000 -> 180000000000 | F9: 172000000000 | H9: =SUM(B9:G9) -> 808000000000
A10: Bồi thường giải phóng mặt bằng | C10: 61000000000 | H10: =SUM(B10:G10) -> 61000000000
A11: Các chi phí khác | B11: 5446870832 | C11: 5446870832 | D11: 5446870832 | E11: 5446870832 | F11: 5446870832 | G11: 5446870832 | H11: =SUM(B11:G11) -> 32681224992
A12: Chi phí dự phòng | B12: 34113550391 | C12: 34113550391 | D12: 34113550391 | E12: 34113550391 | F12: 34113550391 | G12: 34113550391 | H12: =SUM(B12:G12) -> 204681302346
A13: Tổng cộng | B13: =SUM(B3:B12) -> 168228607223 | C13: =SUM(C3:C12) -> 419712355158 | D13: =SUM(D3:D12) -> 338999207223 | E13: =SUM(E3:E12) -> 222828607223 | F13: =SUM(F3:F12) -> 314828607223 | G13: =SUM(G3:G12) -> 115626206944 | H13: =SUM(H3:H12) -> 1580223590994
H14: 588080000000
H15: =F7+G7 -> 173797599721
H16: =H13-(H14+H15+80000000) -> 818265991273
B18: ='TONGCP(CONGTHUC)'!E14/6 -> 5.0447334e+09 | C18: ='TONGCP(CONGTHUC)'!E25/6 -> 3.280323e+10
A20: Các chi phí khác | B20: 5446870832 | C20: 5446870832 | D20: 5446870832 | E20: 5446870832 | F20: 5446870832 | G20: 5446870832
A21: Chi phí dự phòng | B21: 34113550391 | C21: 34113550391 | D21: 34113550391 | E21: 34113550391 | F21: 34113550391 | G21: 34113550391
A22: Tổng cộng | B22: =SUM(B20:B21) -> 39560421223 | C22: =SUM(C20:C21) -> 39560421223 | D22: =SUM(D20:D21) -> 39560421223 | E22: =SUM(E20:E21) -> 39560421223 | F22: =SUM(F20:F21) -> 39560421223 | G22: =SUM(G20:G21) -> 39560421223

Sheet nội suy
A1: =0,09-((0,09-0,08)*(18262722421-10000000000)/15000000000) | F1: Nb | K1: 0.475 | L1: Công thức:
F2: Na | K2: 0.65 | L2: Nt = Nb - [(Nb-Na)/(Ga-Gb)] x (Gt-Gb)
F3: Ga | K3: 10
F4: Gb | K4: 50
A5: Nt= | B5: Nb-(Nb-Na)/(Ga-Gb)*(Gt-Gb) | F5: Gt | L5: G: Quy mô giá trị
B6: =3.08-(3.08-2.99)/(500000000-200000000)*(261889273-200000000) -> 3.0614332 | F6: Nt | H6: =G6/100 -> 0 | L6: N: Định mức tư vấn
L7: a: Cận trên
L8: b: cận dưới
E9: Chi phí lập hồ sơ mời thầu và chi phí lựa chọn nhà thầu
B10: QLDA | C10: Lập DA báo cáo khả thi | D10: Chi phí thẩm định giá | E10: Thiết bị | G10: Xây dựng
A11: Nb | B11: 0.912 | C11: 0.246 | E11: 0.055 | G11: 0.04
A12: Na | B12: 1.18 | C12: 0.209 | E12: 0.043 | G12: 0.032
A13: Ga | B13: 2000 | C13: 2000 | E13: 2000 | G13: 2000
A14: Gb | B14: 1000 | C14: 1000 | E14: 1000 | G14: 1000
A15: Gt | B15: 1122 | C15: 1122 | E15: 385 | G15: 727
A16: Nt | B16: =B11-(B11-B12)/(B13-B14)*(B15-B14) -> 0.944696 | C16: =C11-(C11-C12)/(C13-C14)*(C15-C14) -> 0.241486 | D16: ='TONGCP(CONGTHUC)'!E12*2/100 -> 8.5536215e+09 | E16: =E11-(E11-E12)/(E13-E14)*(E15-E14) -> 0.06238 | G16: =G11-(G11-G12)/(G13-G14)*(G15-G14) -> 0.042184
A19: Giám sát XD | C19: Giám sát TB | D19: Chi phí thẩm tra thiết kế dự toán | G19: ='TONGCP(CONGTHUC)'!E12 -> 427681074656
A20: 0.797 | C20: 0.176 | D20: 0.029 | G20: =G19*10% -> 4.2768107e+10
A21: 0.694 | C21: 0.153 | D21: 0.028 | G21: =G19-G20 -> 3.8491297e+11
A22: 2000 | C22: 2000 | D22: 2000
A23: 1000 | C23: 1000 | D23: 1000 | G23: ='TONGCP(CONGTHUC)'!E11 -> 808000000000
A24: 808 | C24: 428 | D24: 727 | G24: =G23*10% -> 80800000000
A25: =A20-(A20-A21)/(A22-A23)*(A24-A23) -> 0.816776 | C25: =C20-(C20-C21)/(C22-C23)*(C24-C23) -> 0.189156 | D25: =D20-(D20-D21)/(D22-D23)*(D24-D23) -> 0.029273 | G25: =G23-G24 -> 727200000000
C28: Chi phí thẩm định dự án
