Workbook

Sheet GV
C1: Tổng số | D1: =SUM(D2:D5) -> 237 | J1: Đào tạo, BD chứng chỉ nghề quốc gia
C2: GV cơ hữu | D2: 176 | J2: Đào tạo, BD ngoại ngữ
C3: GV hợp đồng | D3: 2 | J3: Chuẩn tin học
C4: GV thỉnh giảng | D4: 15 | J4: -chuẩn GDNN
C5: GV kiêm chức | D5: 44 | J5: -chuẩn trường CLC
C6: Trình độ | J6: Chuẩn năng lực sư phạm
C7: Cơ hữu+kiêm chức | E7: Tỉ lệ | J7: Nghiệp vụ
C8: Tiến sĩ | D8: 2 | E8: =(D8*100%)/D1 -> 0.0084388186 | F8: 0.01 | J8: - Tiến sĩ (35.000USD)
C9: Thạc sĩ | D9: 130 | E9: =(D9*100%)/D2 -> 0.73863636 | F9: 0.74 | J9: - Thạc sĩ (30.000DGD)
C10: Đại học | D10: 89 | E10: =(D10*100%)/D1 -> 0.37552743 | F10: 0.38 | J10: Dào tạo CB đạt chứng chỉ quản lý dạy nghề
C11: Cao đẳng | D11: 1 | E11: =(D11*100%)/D4 -> 0.066666667 | F11: 0.005
C12: Thỉnh giảng
C13: Thạc sĩ | D13: 6
C14: Đại học | D14: 9
A17: - PHƯƠNG ÁN 1 | J17: 8250
A18: BẢNG XÁC ĐỊNH NHU CẦU TUYỂN GV 2017-2018 | J18: 1202
J19: =J17-J18 -> 7048
A20: STT | B20: GDCN | E20: GDNN
A21: 1 | B21: Số lượng HS-SV hiện có | D21: 8250
B22: -CĐ | D22: 5706 | E22: -CĐ | F22: 272
B23: -CĐLT | D23: 122 | E23: -TC | F23: 1111 | J23: 220000000000
B24: -TCCN | D24: 1039 | J24: 143000
B25: TỔNG | D25: =SUM(D22:D24) -> 6867 | F25: =SUM(F22:F24) -> 1383 | J25: =J23/J24 -> 1538461.5
B26: TỔNG 2 HỆ | D26: =D25+F25 -> 8250
B27: TN 2017 | D27: 1375 | E27: Tuyển mới | F27: 3000
F28: =SUM(F24:F27) -> 4383
A29: 2 | B29: Số HS-SV sau TN 2017 | D29: =D25-D27 -> 5492 | F29: =F28 -> 4383
A30: 3 | B30: GV cần có | D30: =D29/30 -> 183.06667 | F30: =F28/20 -> 219.15 | G30: =D30+F30 -> 402.21667 | J30: 6000000
A31: 4 | B31: GV hiện có | D31: =D32+D33 -> 110 | F31: =SUM(F32:F34) -> 141 | J31: 143000
B32: -ĐH | C32: 45 | D32: =C32 -> 45 | F32: 53 | J32: =J30*J31 -> 858000000000
B33: -Ths | C33: 50 | D33: =C33*1.3 -> 65 | F33: 86
B34: -TS | F34: 2
B35: Tổng (60% cơ hữu) | D35: =D30*60/100 -> 109.84 | F35: =F30*60/100 -> 131.49
A36: 5 | B36: Tuyển thêm | D36: =D30-D35 -> 73.226667 | F36: =F30-F31 -> 78.15
B37: - Thỉnh giảng | D37: 73 | F37: 68
B38: - Cơ hữu | F38: =F31-F35 -> 9.51
A39: 6 | B39: Tổng số tuyển thêm GV 2 hệ
B40: - Cơ hữu | C40: =D38+F38 -> 9.51
B41: - Thỉnh giảng | C41: =D37+F37 -> 141
B43: Kế hoạch tuyển mới GV
...

Sheet QUIMOHS
A2: TUYỂN SINH | B2: 2017 | C2: 2018 | D2: 2019 | E2: 2020 | F2: 2021 | G2: 2022
A3: CS1 | B3: =B9 -> 3000 | C3: =C9 -> 3600 | D3: =D9 -> 4000 | E3: =E9 -> 4000 | F3: =F9 -> 4000 | G3: =G9 -> 4500
A4: CS2 | G4: 1000
A5: TỔNG CỘNG | B5: =SUM(B3:B4) -> 3000 | C5: =SUM(C3:C4) -> 3600 | D5: =SUM(D3:D4) -> 4000 | E5: =SUM(E3:E4) -> 4000 | F5: =SUM(F3:F4) -> 4000 | G5: =SUM(G3:G4) -> 5500
A8: QUI MÔ | B8: 2017 | C8: 2018 | D8: 2019 | E8: 2020 | F8: 2021 | G8: 2022
A9: KHÓA MỚI | B9: =B10+B11 -> 3000 | C9: =C10+C11 -> 3600 | D9: =D10+D11 -> 4000 | E9: =E10+E11 -> 4000 | F9: =F10+F11 -> 4000 | G9: =G10+G11 -> 4500
A10: CĐ | B10: 1550 | C10: 1500 | D10: ='HS2'!E66 -> 2000 | E10: ='HS2'!F66 -> 2000 | F10: ='HS2'!G66 -> 2000 | G10: ='HS2'!H66 -> 2000
A11: TC | B11: 1450 | C11: 2100 | D11: ='HS2'!E135 -> 2000 | E11: ='HS2'!F135 -> 2000 | F11: ='HS2'!G135 -> 2000 | G11: ='HS2'!H135 -> 2500
A12: -TC1 | B12: 300 | D12: 600 | E12: 900 | F12: 1000 | G12: 1000
A13: -TC1,5 | B13: 400 | C13: 1000 | D13: 400 | E13: 400 | F13: 500 | G13: 1000
A14: -TC 3 | B14: 750 | C14: 1100 | D14: 1000 | E14: 700 | F14: 500 | G14: 500
A15: KHÓA CŨ | B15: =B24-B19 -> 6875 | C15: =B15-C19 -> 3581 | D15: =C15-D19 -> 0
A16: QUI MÔ | B16: =B9+B15 -> 9875 | C16: =(B16+C9)-C21 -> 9881 | D16: =(C16+D9)-D21 -> 9900 | E16: =(D16+E9)-E21 -> 10000 | F16: =(E16+F9)-F21 -> 10100 | G16: =(F16+G9)-G21 -> 10200
A18: Tốt nghiệp | B18: 2017 | C18: 2018 | D18: 2019 | E18: 2020 | F18: 2021 | G18: 2022 | H18: TỔNG
A19: GDCN | B19: 1375 | C19: 3294 | D19: 3581 | H19: =SUM(B19:G19) -> 8250
C20: =B12 -> 300 | D20: =B13+C12 -> 400 | E20: =B10+B14+C13+D12 -> 3900 | F20: =C10+C14+D13+E12 -> 3900 | G20: =D10+D14+E13+F12 -> 4400 | H20: =SUM(B20:G20) -> 12900
A21: CỘNG 2 HỆ | B21: =B19+B20 -> 1375 | C21: =C19+C20 -> 3594 | D21: =D19+D20 -> 3981 | E21: =E19+E20 -> 3900 | F21: =F19+F20 -> 3900 | G21: =G19+G20 -> 4400 | H21: =SUM(B21:G21) -> 21150
A23: TNGDNN | C23: 525 | D23: 975 | E23: 3050 | F23: 4000
B24: 8250 | C24: 6875 | D24: 3581
A25: TN GDCN | B25: 1375 | C25: 3294 | D25: 3581
B26: =B24-B25 -> 6875 | C26: =C24-C25 -> 3581 | D26: 0
A27: Năm | B27: Địa điểm | C27: Số liệu tuyển sinh | F27: Qui mô đào tạo
C28: Tổng cộng | D28: CĐ | E28: TC
A29: 2017 | B29: Cơ sở 1 | C29: =D29+E29 -> 3000 | D29: 1500 | E29: 1500 | F29: =B16 -> 9875
A30: 2018 | B30: Cơ sở 1 | C30: =D30+E30 -> 3600 | D30: 1600 | E30: 2000 | F30: =C16 -> 9881
A31: 2019 | B31: Cơ sở 1 | C31: =D31+E31 -> 4000 | D31: 2000 | E31: 2000 | F31: =D16 -> 9900
A32: 2020 | B32: Cơ sở 1 | C32: =D32+E32 -> 4000 | D32: 2000 | E32: 2000 | F32: =E16 -> 10000
A33: 2021 | B33: Cơ sở 1 | C33: =D33+E33 -> 4000 | D33: 2000 | E33: 2000 | F33: =F16 -> 10100
A34: 2022 | B34: Cơ sở 1 | C34: =D34+E34 -> 4500 | D34: 2000 | E34: 2500 | F34: =G16 -> 10200
B35: Cơ sở 2 | C35: =D35+E35 -> 1000 | D35: 500 | E35: 500 | F35: 1000
A36: CỘNG | C36: =SUM(C29:C35) -> 24100 | D36: =SUM(D29:D35) -> 11600 | E36: =SUM(E29:E35) -> 12500 | F36: =SUM(F29:F35) -> 60956

Sheet HS2
A1: STT | B1: Tên nghề và trình độ đào tạo | C1: Dự kiến tuyển sinh Từ 2017 đến 2022
C2: 2017 | D2: 2018 | E2: 2019 | F2: 2020 | G2: 2021 | H2: 2022
A3: A | B3: Cao đẳng nghề
A4: I | B4: CN KT Điện-Điện tử
A5: 1 | B5: Công nghệ kỹ thuật điện, điện tử | C5: 25 | D5: 25 | E5: 50 | F5: 50 | G5: 50 | H5: 50
A6: 2 | B6: Công nghệ kỹ thuật điều khiển tự động hóa | C6: 50 | D6: 50 | E6: 75 | F6: 75 | G6: 75 | H6: 75
A7: 3 | B7: Kỹ thuật lắp đặt điện và điều khiển trong công nghiệp | C7: 25 | D7: 25 | E7: 25 | F7: 25 | G7: 25 | H7: 25
A8: 4 | B8: Kỹ thuật mạng ngoại vi và thiết bị đầu cuối | C8: 25 | D8: 25 | E8: 25 | F8: 25 | G8: 25 | H8: 25
A9: 5 | B9: Kỹ thuật đài trạm viễn thông | C9: 25 | D9: 25 | E9: 25 | F9: 25 | G9: 25 | H9: 25
A10: 6 | B10: Kỹ thuật truyền dẫn quang và vô tuyến | C10: 25 | D10: 25 | E10: 25 | F10: 25 | G10: 25 | H10: 25
A11: 7 | B11: Điện tử dân dụng | C11: 25 | D11: 25 | E11: 25 | F11: 25 | G11: 25 | H11: 25
A12: 8 | B12: Điện tử công nghiệp | C12: 25 | D12: 25 | E12: 50 | F12: 50 | G12: 50 | H12: 50
A13: 9 | B13: Điện dân dụng | C13: 25 | D13: 25 | E13: 25 | F13: 25 | G13: 25 | H13: 25
A14: 10 | B14: Điện công nghiệp | C14: 25 | D14: 25 | E14: 50 | F14: 50 | G14: 50 | H14: 50
A15: 11 | B15: Sửa chữa thiết bị tự động hóa | C15: 50 | D15: 50 | E15: 50 | F15: 50 | G15: 50 | H15: 50
A16: 12 | B16: Lắp đặt điện công trình | C16: 25 | D16: 25 | E16: 50 | F16: 50 | G16: 50 | H16: 50
... A18: 14 | B18: Kỹ thuật thiết bị điện tử y tế | C18: 25 | D18: 25 | E18: 25 | F18: 25 | G18: 25 | H18: 25
A19: II | B19: CN Kỹ thuật Cơ khí
A20: 1 | B20: Công nghệ kỹ thuật cơ khí | C20: 50 | D20: 50 | E20: 50 | F20: 50 | G20: 50 | H20: 50
A21: 2 | B21: Công nghệ chế tạo máy | C21: 25 | D21: 50 | E21: 50 | F21: 50 | G21: 50 | H21: 50
A22: 3 | B22: Cắt gọt kim loại | C22: 25 | D22: 50 | E22: 50 | F22: 50 | G22: 50 | H22: 50
A23: 4 | B23: Bảo trì thiết bị cơ điện | C23: 25 | D23: 25 | E23: 25 | F23: 25 | G23: 25 | H23: 25
A24: 5 | B24: Bảo trì hệ thống thiết bị công nghiệp | C24: 25 | D24: 25 | E24: 50 | F24: 50 | G24: 50 | H24: 50
A25: II | B25: CN Kỹ thuật Ô tô
A26: 1 | B26: Công nghệ kỹ thuật ô tô | C26: 50 | D26: 50 | E26: 50 | F26: 50 | G26: 50 | H26: 50
A27: 2 | B27: Công nghệ ô tô | C27: 50 | D27: 50 | E27: 50 | F27: 50 | G27: 50 | H27: 50
A28: 3 | B28: Công nghệ sơn tĩnh điện | C28: 25 | D28: 25 | E28: 50 | F28: 50 | G28: 50 | H28: 50
A29: 4 | B29: Lắp ráp ô tô | C29: 25 | D29: 25 | E29: 50 | F29: 50 | G29: 50 | H29: 50
A30: 5 | B30: Sửa chữa máy tàu thủy | C30: 25 | D30: 25 | E30: 25 | F30: 25 | G30: 25 | H30: 25
A31: IV | B31: CN Kỹ thuật Nhiệt-Lạnh
A32: 1 | B32: Công nghệ kỹ thuật nhiệt | C32: 25 | D32: 25 | E32: 50 | F32: 50 | G32: 50 | H32: 50
A33: 2 | B33: Lắp đặt thiết bị lạnh | C33: 25 | D33: 25 | E33: 25 | F33: 25 | G33: 25 | H33: 25
A34: 3 | B34: Kỹ thuật máy lạnh và điều hòa không khí | C34: 25 | D34: 25 | E34: 50 | F34: 50 | G34: 50 | H34: 50
A35: 4 | B35: Vận hành, sửa chữa thiết bị lạnh | C35: 25 | D35: 25 | E35: 25 | F35: 25 | G35: 25 | H35: 25
A36: V | B36: CN Thông tin
A37: 1 | B37: Công nghệ kỹ thuật máy tính | C37: 25 | D37: 25 | E37: 50 | F37: 50 | G37: 50 | H37: 50
A38: 2 | B38: Công nghệ thông tin (ứng dụng phần mềm) | C38: 25 | D38: 25 | E38: 25 | F38: 25 | G38: 25 | H38: 25
A39: 3 | B39: Tin học văn phòng | C39: 25 | D39: 50 | E39: 50 | F39: 50 | G39: 50 | H39: 50
A40: 4 | B40: Quản trị mạng máy tính | C40: 25 | D40: 25 | E40: 50 | F40: 50 | G40: 50 | H40: 50
A41: 5 | B41: Thiết kế đồ họa | C41: 25 | D41: 25 | E41: 25 | F41: 25 | G41: 25 | H41: 25
...

Sheet GIAOTRINH
A2: NGHỀ | B2: 61
A3: CHƯƠNG TRÌNH | B3: =SUM(B4:B5) -> 244
A4: -CĐ | B4: 61
A5: -TC (03 CẤP HỌC) | B5: =61*3 -> 183
A6: GIÁO TRÌNH
A7: -CĐ (35 giáo trình/nghề | B7: =B2*35 -> 2135
A8: -TC (90 giáo trình/nghề | B8: =B2*90 -> 5490
A16: Tin học | B16: TC3 | C16: 2200000 | E16: =C16*D16 -> 0
A17: Ngoại ngữ | B17: ToEIC 350 | C17: 8000000
B18: ToEIC 450 | C18: 10000000
A19: Chuyên ngành | B19: Thạc sĩ 1-1,5 năm | C19: 464943300 | D19: =C19*20 -> 9298866000
B20: 30.000SGD
B21: (Tỉ giá15.498,11)
B22: Tiến sĩ 35.000USD | C22: 797300000 | D22: =C22*10 -> 7973000000
B23: (Tỉ giá 22.780) | C23: Biên soạn
A24: PHUONG AN 1 | E24: Chương trình | F24: Giáo trình 30CĐ,TC20*3bậc)
A25: Chương trình | B25: CNTT | C25: 7 | E25: =C25*36000000 -> 252000000 | F25: 90 | G25: =F25*C25 -> 630 | H25: =G25*30*20000 -> 378000000
B26: Tiếng Anh | C26: 2 | E26: =C26*36000000 -> 72000000 | F26: 90 | G26: =F26*C26 -> 180 | H26: =G26*30*20000 -> 108000000
B27: Kinh tế | C27: 10 | E27: =C27*36000000 -> 360000000 | F27: 90 | G27: =F27*C27 -> 900 | H27: =G27*30*20000 -> 540000000
B28: Cơ kh | C28: 6 | E28: =C28*36000000 -> 216000000 | F28: 90 | G28: =F28*C28 -> 540 | H28: =G28*30*20000 -> 324000000
B29: Động lực | C29: 11 | E29: =C29*36000000 -> 396000000 | F29: 90 | G29: =F29*C29 -> 990 | H29: =G29*30*20000 -> 594000000
B30: Nhiệt lạnh | C30: 4 | E30: =C30*36000000 -> 144000000 | F30: 90 | G30: =F30*C30 -> 360 | H30: =G30*30*20000 -> 216000000
B31: Đ-Đtử | C31: 14 | E31: =C31*36000000 -> 504000000 | F31: 90 | G31: =F31*C31 -> 1260 | H31: =G31*30*20000 -> 756000000
B32: May | C32: 5 | E32: =C32*36000000 -> 180000000 | F32: 90 | G32: =F32*C32 -> 450 | H32: =G32*30*20000 -> 270000000
B33: Xây dựng | C33: 1 | E33: =C33*36000000 -> 36000000 | F33: 90 | G33: =F33*C33 -> 90 | H33: =G33*30*20000 -> 54000000
C34: 60 | E34: =SUM(E25:E33) -> 2160000000 | G34: =SUM(G25:G33) -> 5400 | H34: =SUM(H25:H33) -> 3240000000
E35: 1800g/nghề * 20.000đ/giờ=36.000.000đ/nghề
C36: Thẩm định
A37: Chương trình | C37: Quốc gia | D37: 51 | E37: 20000000 | F37: =E37*D37 -> 1020000000
B38: 30000USD | C38: Khu vực | D38: 4 | E38: 683400000 | F38: =E38*D38 -> 2733600000
C39: Quốc tế | D39: 5 | E39: 683400000 | F39: =E39*D39 -> 3417000000 | H39: =1800*20000 -> 36000000
E40: CỘNG CHI PHÍ THẨM ĐỊNH | F40: =SUM(F37:F39) -> 7170600000
E41: Biên soạn | F41: =E34+H34 -> 5400000000
E42: TONG CONG BIÊN SoẠN+THẨM ĐỊNH | F42: =F40+F41 -> 12570600000
C46: =C45*2 -> 0

Sheet DANHMUCNGHE
A3: Tin học | B3: TC3 | C3: 2200000 | E3: =C3*D3 -> 0
A4: Ngoại ngữ | B4: ToEIC 350 | C4: 8000000
B5: ToEIC 450 | C5: 10000000
A6: Chuyên ngành | B6: Thạc sĩ 1-1,5 năm | C6: 464943300
B7: 30.000SGD
B8: (Tỉ giá15.498,11)
B9: Tiến sĩ 35.000USD | C9: 797300000
B10: (Tỉ giá 22.780)
G11: Giáo trình 35CĐ,TC20)
A12: Chương trình | B12: CNTT | C12: 7 | D12: 2 | E12: =C12*D12 -> 14 | F12: 122 | G12: 50 | H12: =C12*G12 -> 350
B13: Tiếng Anh | C13: 2 | D13: 2 | E13: =C13*D13 -> 4 | F13: 4 | G13: 50 | H13: =C13*G13 -> 100
B14: Kinh tế | C14: 11 | D14: 2 | E14: =C14*D14 -> 22 | F14: =F12*F13 -> 488 | G14: 50 | H14: =C14*G14 -> 550
B15: Cơ kh | C15: 6 | D15: 2 | E15: =C15*D15 -> 12 | G15: 50 | H15: =C15*G15 -> 300
B16: Động lực | C16: 11 | D16: 2 | E16: =C16*D16 -> 22 | G16: 50 | H16: =C16*G16 -> 550
B17: Nhiệt lạnh | C17: 4 | D17: 2 | E17: =C17*D17 -> 8 | G17: 50 | H17: =C17*G17 -> 200
B18: Đ-Đtử | C18: 14 | D18: 2 | E18: =C18*D18 -> 28 | G18: 50 | H18: =C18*G18 -> 700
B19: May | C19: 5 | D19: 2 | E19: =C19*D19 -> 10 | G19: 50 | H19: =C19*G19 -> 250
B20: Xây dựng | C20: 1 | D20: 2 | E20: =C20*D20 -> 2 | G20: 50 | H20: =C20*G20 -> 50
E21: =SUM(E12:E20) -> 122 | H21: =SUM(H12:H20) -> 3050
A22: Giáo trình
A25: KHOA | B25: CHUYÊN NGÀNH | F25: ĐANG ĐÀO TẠO
B26: MÃ Cấp IV | C26: TRUNG CẤP | D26: MÃ Cấp IV | E26: CAO ĐẲNG
A27: CÔNG NGHỆ THÔNG TIN
B28: 25 | C28: Công nghệ kỹ thuật phần cứng máy tính | D28: 25 | E28: Công nghệ kỹ thuật máy tính
B29: 25 | C29: Công nghệ thông tin (ứng dụng phần mềm) | D29: 25 | E29: Công nghệ thông tin (ứng dụng phần mềm)
B30: 25 | C30: Tin học văn phòng | D30: 25 | E30: Tin học văn phòng
B31: 25 | C31: Quản trị mạng máy tính | D31: 50 | E31: Quản trị mạng máy tính
B32: 25 | C32: Thiết kế đồ họa | D32: 25 | E32: Thiết kế đồ họa
B33: 25 | C33: Thiết kế trang Web | D33: 25 | E33: Thiết kế trang Web
B34: 25 | C34: An ninh mạng | D34: 25 | E34: An ninh mạng
A35: TIẾNG ANH
B36: 25 | C36: Tiếng Anh | D36: 25 | E36: Tiếng Anh
B37: 25 | C37: Phiên dịch tiếng Anh thương mại | D37: 25 | E37: Phiên dịch tiếng Anh thương mại
A38: KINH TẾ
B39: 25 | C39: Kinh doanh thương mại và dịch vụ | D39: 25 | E39: Kinh doanh thương mại
D40: 25 | E40: Quản trị kinh doanh
B41: 25 | C41: Marketing | D41: 25 | E41: Marketing
B42: 25 | C42: Marketing thương mại | D42: 25 | E42: Marketing thương mại
B43: 25 | C43: Nghiệp vụ bán hàng | D43: 25 | E43: Quản trị bán hàng
B44: 25 | C44: Tài chính doanh nghiệp | D44: 25 | E44: Tài chính doanh nghiệp
...

Sheet THIETBI
F2: Động lực
A3: TT | B3: Tên phòng thực hành | C3: Số lượng | D3: Thành tiền | F3: 57679897680 | G3: 32634630000
A4: Nhóm nghề 1 | F4: 32634630000 | G4: 23023510000
A5: 1 | B5: Kỹ thuật chẩn đoán về sửa chữa điện ô tô | C5: 1 | D5: 5437144000 | F5: CNTT
A6: 2 | B6: Kỹ thuật sửa chữa động cơ ô tô | C6: 1 | D6: 22342312880 | F6: 26379880000 | G6: 11239980000
A7: 3 | B7: Bảo trì sửa chữa ô tô | C7: 1 | D7: 26518840800 | F7: May thời trang
B8: Thiết bị dùng chung | D8: 3381600000 | F8: 782579400 | G8: 260859800
B9: Tổng cộng | C9: 3 | D9: =SUM(D5:D8) -> 57679897680 | F9: 1074428400 | G9: 358142800
A10: Nghề Sửa chữa Máy tàu thủy | F10: 1048667900 | G10: 349666900
A11: 1 | B11: Phòng học chuyên đề tàu thủy | C11: 1 | D11: 696425000 | F11: 357762667 | G11: 178881333
A12: 2 | B12: Phòng học chuyên ngành tàu thủy | C12: 1 | D12: 22327085000 | F12: Điện-Điện tử
C13: 2 | D13: =SUM(D11:D12) -> 23023510000 | F13: 1218888888 | G13: 1218888888
A14: Bảo trì và s/c máy XD và máy nâng chuyển | F14: 1382840000 | G14: 1382840000
A15: 1 | B15: Phòng học chuyên đề máy xây dựng và nâng chuyển | C15: 1 | D15: 238200000 | F15: 867500000 | G15: 867500000
A16: 2 | B16: Xưởng thực hành máy xây dựng và nâng chuyển | C16: 1 | D16: 32396430000 | F16: Cơ khí
C17: 2 | D17: =SUM(D15:D16) -> 32634630000 | F17: 1630000000 | G17: 1315000000
A18: Bảo trì và s/c máy bay | F18: 78826400000 | G18: 50967700000
A19: 1 | B19: Phòngthực hành bảo trì và sửa chữa máy bay | C19: 1 | D19: 172571025000 | F19: Nhiệt lạnh
C20: 1 | D20: =SUM(D19:D19) -> 172571025000 | F20: 50000000000 | G20: 50000000000
B21: Tổng thiết bị ngành Ô tô | D21: =D20+D17+D13+D9 -> 285909062680 | F21: =SUM(F3:F20) -> 253883474935 | G21: =SUM(G3:G20) -> 173797599721
G23: =F21+G21 -> 427681074656
F31: ;

Sheet TONGCP(2)
A1: BẢNG TỔNG HỢP CHI PHÍ
A3: TT | B3: NỘI DUNG ĐẦU TƯ | C3: CƠ SỞ 1 | D3: CƠ SỞ 2 | E3: CS1+CS2 | F3: Thuế 10% | G3: Giá trị trước thuế
A4: I | B4: Quản lý | C4: =SUM(C5:C8) -> 36679716000 | E4: =C4+D4 -> 36679716000
A5: 1 | B5: Vận hành hệ thống QL ĐBCL, kiểm định | C5: 5500000000 | E5: =C5+D5 -> 5500000000
A6: 2 | B6: Bồi dưỡng đội ngũ CBQL,GV | C6: 13609116000 | E6: =C6+D6 -> 13609116000
A7: 3 | B7: NCKH | C7: 5000000000 | E7: =C7+D7 -> 5000000000
A8: 4 | B8: Chương trình-giáo trình đào tạo | C8: =GIAOTRINH!F42 -> 12570600000 | E8: =C8+D8 -> 12570600000
A9: II | B9: Cơ sở vật chất | C9: =SUM(C10:C12) -> 533883474935 | E9: =SUM(E10:E12) -> 1245681074656 | F9: =F10+F11+F12 -> 1.2456811e+11 | G9: =E9-F9 -> 1.121113e+12
A10: 1 | B10: Thư viện | C10: 10000000000 | E10: =C10+D10 -> 10000000000 | F10: =E10*10/100 -> 1000000000 | G10: =E10-F10 -> 9000000000
A11: 2 | B11: Xây mới phòng học,xưởng thực hành | C11: 270000000000 | D11: 538000000000 | E11: =C11+D11 -> 808000000000 | F11: =E11*10/100 -> 80800000000 | G11: =E11-F11 -> 727200000000
A12: 3 | B12: Thiết bị dạy học | C12: =THIETBI!F21 -> 253883474935 | D12: =THIETBI!G21 -> 173797599721 | E12: =C12+D12 -> 427681074656 | F12: =E12*10/100 -> 4.2768107e+10 | G12: =E12-F12 -> 3.8491297e+11
A13: III | B13: Chi phí bồi thường giải phóng mặt bằng cơ sở 2 | D13: 61000000000 | E13: =C13+D13 -> 61000000000
A14: IV | B14: Các chi phí tư vấn và chi phí khác | C14: =SUM(C15:C25) -> 0 | E14: =SUM(E15:E25) -> 3.3809667e+10
A15: 1 | B15: Chi phí quản lý DA | D15: (Trừ thuế 10% Tbi+XLắp) | E15: ='nội suy'!B16*'TONGCP(CONGTHUC)'!F13/100 -> 1.082378e+10
A16: 2 | B16: Chi phí lập DA báo cáo khả thi | C16: =(I+II+III)*Hệ số nội suy | D16: (Trừ thuế 10% Tbi+XLắp) | E16: =(G9+E13)*'nội suy'!C16/100 -> 2.8546373e+09
A17: 3 | B17: Chi phí thẩm định giá | C17: Chỉ tính thẩm định trên thiết bị | E17: =(E12*2)/100 -> 8.5536215e+09
A18: 4 | B18: Chi phí lập hồ sơ mời thầu và chi phí lựa chọn nhà thầu TB | E18: ='nội suy'!E16*'TONGCP(CONGTHUC)'!E12/100 -> 2.6678745e+08
B19: Chi phí lập hồ sơ mời thầu và chi phí lựa chọn nhà thầu XD | E19: ='nội suy'!G16*'TONGCP(CONGTHUC)'!E11/100 -> 340846720
A20: 5 | B20: Chi phí phê duyệt, thẩm định kết quả lựa chọn nhà thầu | E20: 50000000
A21: 6 | B21: Chi phí giám sát xây dựng và lắp đặt thiết bị | E21: =D38+D39 -> 8.0602475e+09
A22: 7 | B22: Chi phí thẩm tra thiết kế dự toán | C22: Chỉ tính trên phần XD | E22: ='nội suy'!D25*'TONGCP(CONGTHUC)'!F11/100 -> 212873256
A23: 8 | B23: Chi phí thẩm định dự án | E23: =(E31*F23)/100 -> 15802233 | F23: 0.001
A24: 9 | B24: Chi phí kiểm toán | E24: 1998982497 | F24: =(E31*G24)*1.1/100 -> 1.9989825e+09 | G24: 0.115 | H24: =(E31*G24)*1.1/100 -> 1.9989825e+09
A25: 10 | B25: Chi phí thẩm tra quyết toán | C25: Tổng mức đầu tư*HS nội suy | E25: 632089327 | F25: =(E31*G25)*0.5/100 -> 6.3208933e+08 | G25: 0.08 | H25: =(E31*G25)*0.5/100 -> 6.3208933e+08
A26: V | B26: Chi phí dự phòng | E26: =E27+E28 -> 2.0657557e+11
A27: 1 | B27: Dự phòng cho yếu tố phát sinh khối lượng (10%) | D27: (I+II+III+IV)*10% | E27: =(E4+E9+E13+E14)*10/100 -> 1.3771705e+11
A28: 2 | B28: Dự phòng cho yếu tố trượt giá | D28: (I+II+III+IV)*5% | E28: =(E4+E9+E13+E14)*5/100 -> 6.8858523e+10
B29: Tổng mức đầu tư | C29: =C4+C9+C13+C14+C26 -> 570563190935 | E29: =E4+E9+E13+E14+E26 -> 1.583746e+12
E31: 1580223317995
A32: IV | B32: Các chi phí tư vấn và chi phí khác | C32: =SUM(C33:C42) -> 0
A33: 1 | B33: Chi phí quản lý DA | C33: =(I+II+III)*Hệ số nội suy | D33: (Trừ thuế 10% Tbi+XLắp) | E33: 79
A34: 2 | B34: Chi phí lập DA báo cáo khả thi | C34: =(I+II+III)*Hệ số nội suy | D34: (Trừ thuế 10% Tbi+XLắp) | E34: 79
A35: 3 | B35: Chi phí thẩm định giá | C35: Chỉ tính thẩm định trên thiết bị | E35: 0.02
A36: 4 | B36: Chi phí lập hồ sơ mời thầu và chi phí lựa chọn nhà thầu | E36: 79
A37: 5 | B37: Chi phí phê duyệt, thẩm định kết quả lựa chọn nhà thầu | E37: ND 63 hoặc Luật đấu thâu
A38: 6 | B38: Chi phí giám sát xây dựng | D38: ='nội suy'!A25*'TONGCP(CONGTHUC)'!F11/100 -> 5939595072 | E38: 79
B39: Chi phí lắp đặt thiết bị | D39: ='nội suy'!C25*'TONGCP(CONGTHUC)'!F9/100 -> 2.1206524e+09
A40: 7 | B40: Chi phí thẩm tra thiết kế dự toán | C40: Chỉ tính trên phần XD | E40: TT 75 btc hoac TT 176 BTC
A41: 8 | B41: Chi phí thẩm định dự án | E41: TT 75 btc hoac TT 176 BTC
A42: 9 | B42: Chi phí thẩm tra quyết toán | C42: Tổng mức đầu tư*HS nội suy | D42: 0,08 | E42: TT 09 BTC
...

Sheet TONGCP(CONGTHUC)
A1: BẢNG TỔNG HỢP CHI PHÍ
A3: TT | B3: NỘI DUNG ĐẦU TƯ | C3: CƠ SỞ 1 | D3: CƠ SỞ 2 | E3: CS1+CS2 | F3: Trừ 10%thuế
A4: I | B4: Quản lý | C4: =SUM(C5:C8) -> 36179716000 | E4: =C4+D4 -> 36179716000 | F4: 24629116000
A5: 1 | B5: Vận hành hệ thống QL ĐBCL | C5: 5000000000 | E5: =C5+D5 -> 5000000000
A6: 2 | B6: Bồi dưỡng đội ngũ CBQL,GV | C6: 13609116000 | E6: =C6+D6 -> 13609116000
A7: 3 | B7: NCKH | C7: 5000000000 | E7: =C7+D7 -> 5000000000
A8: 4 | B8: Chương trình-giáo trình đào tạo | C8: =GIAOTRINH!F42 -> 12570600000 | E8: =C8+D8 -> 12570600000
A9: II | B9: Cơ sở vật chất | C9: =SUM(C10:C12) -> 533883474935 | E9: =SUM(E10:E12) -> 1245681074656 | F9: =E9-G9 -> 1.121113e+12 | G9: =E9*10% -> 1.2456811e+11
A10: 1 | B10: Thư viện | C10: 10000000000 | E10: =C10+D10 -> 10000000000
A11: 2 | B11: Xây mới phòng học,xưởng thực hành | C11: 270000000000 | D11: 538000000000 | E11: =C11+D11 -> 808000000000 | F11: =E11-G11 -> 727200000000 | G11: =E11*10% -> 80800000000
A12: 3 | B12: Thiết bị dạy học | C12: =THIETBI!F21 -> 253883474935 | D12: =THIETBI!G21 -> 173797599721 | E12: =C12+D12 -> 427681074656 | F12: =E12-G12 -> 3.8491297e+11 | G12: =E12*10% -> 4.2768107e+10
A13: III | B13: Chi phí bồi thường giải phóng mặt bằng cơ sở 2 | D13: 61000000000 | E13: =C13+D13 -> 61000000000 | F13: =F4+F9 -> 1.1457421e+12
A14: IV | B14: Các chi phí tư vấn và chi phí khác | C14: =SUM(C15:C24) -> 0 | E14: =SUM(E15:E24) -> 3.0268401e+10
A15: 1 | B15: Chi phí quản lý DA | D15: (Trừ thuế 10% Tbi+XLắp) | E15: ='nội suy'!B16*'TONGCP(CONGTHUC)'!F13/100 -> 1.082378e+10
A16: 2 | B16: Chi phí lập DA báo cáo khả thi | C16: =(I+II+III)*Hệ số nội suy | D16: (Trừ thuế 10% Tbi+XLắp) | E16: ='nội suy'!C16*'TONGCP(CONGTHUC)'!F13/100 -> 2.7668067e+09
A17: 3 | B17: Chi phí thẩm định giá | C17: Chỉ tính thẩm định trên thiết bị | E17: =F12*0.02 -> 7.6982593e+09 | F17: =F19 -> 6.0763417e+08
A18: 4 | B18: Chi phí lập hồ sơ mời thầu và chi phí lựa chọn nhà thầu TB | E18: ='nội suy'!E16*'TONGCP(CONGTHUC)'!E12/100 -> 2.6678745e+08
B19: Chi phí lập hồ sơ mời thầu và chi phí lựa chọn nhà thầu XD | E19: ='nội suy'!G16*'TONGCP(CONGTHUC)'!E11/100 -> 340846720 | F19: =E18+E19 -> 6.0763417e+08
A20: 5 | B20: Chi phí phê duyệt, thẩm định kết quả lựa chọn nhà thầu | E20: 50000000
A21: 6 | B21: Chi phí giám sát xây dựng và lắp đặt thiết bị | E21: =D37+D38 -> 8.0602475e+09
A22: 7 | B22: Chi phí thẩm tra thiết kế dự toán | C22: Chỉ tính trên phần XD | E22: ='nội suy'!D25*'TONGCP(CONGTHUC)'!F11/100 -> 212873256
A23: 8 | B23: Chi phí thẩm định dự án | E23: ='nội suy'!C34*'TONGCP(CONGTHUC)'!E13/100 -> 0
A24: 9 | B24: Chi phí thẩm tra quyết toán | C24: Tổng mức đầu tư*HS nội suy | E24: =E13*0.08/100 -> 48800000
A25: V | B25: Chi phí dự phòng | E25: =E26+E27 -> 1.9681938e+11
A26: 1 | B26: Dự phòng cho yếu tố phát sinh khối lượng (10%) | D26: (I+II+III+IV)*10% | E26: =(E4+E9+E14)*10/100 -> 1.3121292e+11
A27: 2 | B27: Dự phòng cho yếu tố trượt giá | D27: (I+II+III+IV)*5% | E27: =(E4+E9+E14)*5/100 -> 6.560646e+10
B28: Tổng mức đầu tư | C28: =C4+C9+C13+C14+C25 -> 570063190935 | E28: =E4+E9+E14+E25 -> 1.5089486e+12
A31: IV | B31: Các chi phí tư vấn và chi phí khác | C31: =SUM(C32:C41) -> 0
A32: 1 | B32: Chi phí quản lý DA | C32: =(I+II+III)*Hệ số nội suy | D32: (Trừ thuế 10% Tbi+XLắp) | E32: 79
A33: 2 | B33: Chi phí lập DA báo cáo khả thi | C33: =(I+II+III)*Hệ số nội suy | D33: (Trừ thuế 10% Tbi+XLắp) | E33: 79
A34: 3 | B34: Chi phí thẩm định giá | C34: Chỉ tính thẩm định trên thiết bị | E34: 0.02
A35: 4 | B35: Chi phí lập hồ sơ mời thầu và chi phí lựa chọn nhà thầu | E35: 79
A36: 5 | B36: Chi phí phê duyệt, thẩm định kết quả lựa chọn nhà thầu | E36: ND 63 hoặc Luật đấu thâu
A37: 6 | B37: Chi phí giám sát xây dựng | D37: ='nội suy'!A25*'TONGCP(CONGTHUC)'!F11/100 -> 5939595072 | E37: 79
B38: Chi phí lắp đặt thiết bị | D38: ='nội suy'!C25*'TONGCP(CONGTHUC)'!F9/100 -> 2.1206524e+09
A39: 7 | B39: Chi phí thẩm tra thiết kế dự toán | C39: Chỉ tính trên phần XD | E39: TT 75 btc hoac TT 176 BTC
A40: 8 | B40: Chi phí thẩm định dự án | E40: TT 75 btc hoac TT 176 BTC
A41: 9 | B41: Chi phí thẩm tra quyết toán | C41: Tổng mức đầu tư*HS nội suy | D41: 0,08 | E41: TT 09 BTC
A42: V | B42: Chi phí dự phòng | C42: =C43+C44 -> 0 | E42: btc hoac TT 176 BTC
A43: 1 | B43: Dự phòng cho yếu tố phát sinh khối lượng (10%) | D43: (I+II+III+IV)*10%
...

Sheet PHANKY
A1: Tiến độ thực hiện và phân kỳ DA
A2: Nội dung dự án | B2: 2017 | C2: 2018 | D2: 2019 | E2: 2020 | F2: 2021 | G2: 2022 | H2: Tổng
A3: Bồi dưỡng GV | B3: 2268186000 | C3: 2268186000 | D3: 2268186000 | E3: 2268186000 | F3: 2268186000 | G3: 2268186000 | H3: =SUM(B3:G3) -> 13609116000
A4: Chương trình, giáo trình | B4: =GIAOTRINH!F41 -> 5400000000 | D4: =GIAOTRINH!F40 -> 7170600000 | H4: =SUM(B4:G4) -> 12570600000
A5: NCKH | B5: 1000000000 | C5: 1000000000 | D5: 1000000000 | E5: 1000000000 | F5: 1000000000 | H5: =SUM(B5:G5) -> 5000000000
A6: Đổi mới HT quản lý | C6: 2000000000 | D6: 3000000000 | H6: =SUM(B6:G6) -> 5000000000
A7: Đầu tư thiết bị dạy học | C7: 153883747935 | D7: 100000000000 | F7: 100000000000 | G7: 73797599721 | H7: =SUM(B7:G7) -> 427681347656
A8: Thu viện | C8: 10000000000 | H8: 10000000000
A9: Xây dựng CSVC | B9: =20000*6000000 -> 120000000000 | C9: =25000*6000000 -> 150000000000 | D9: 186000000000 | E9: =30000*6000000 -> 180000000000 | F9: 172000000000 | H9: =SUM(B9:G9) -> 808000000000
A10: Bồi thường giải phóng mặt bằng | C10: 61000000000 | H10: =SUM(B10:G10) -> 61000000000
A11: Các chi phí khác | B11: 5446870832 | C11: 5446870832 | D11: 5446870832 | E11: 5446870832 | F11: 5446870832 | G11: 5446870832 | H11: =SUM(B11:G11) -> 32681224992
A12: Chi phí dự phòng | B12: 34113550391 | C12: 34113550391 | D12: 34113550391 | E12: 34113550391 | F12: 34113550391 | G12: 34113550391 | H12: =SUM(B12:G12) -> 204681302346
A13: Tổng cộng | B13: =SUM(B3:B12) -> 168228607223 | C13: =SUM(C3:C12) -> 419712355158 | D13: =SUM(D3:D12) -> 338999207223 | E13: =SUM(E3:E12) -> 222828607223 | F13: =SUM(F3:F12) -> 314828607223 | G13: =SUM(G3:G12) -> 115626206944 | H13: =SUM(H3:H12) -> 1580223590994
H14: 588080000000
H15: =F7+G7 -> 173797599721
H16: =H13-(H14+H15+80000000) -> 818265991273
B18: ='TONGCP(CONGTHUC)'!E14/6 -> 5.0447334e+09 | C18: ='TONGCP(CONGTHUC)'!E25/6 -> 3.280323e+10
A20: Các chi phí khác | B20: 5446870832 | C20: 5446870832 | D20: 5446870832 | E20: 5446870832 | F20: 5446870832 | G20: 5446870832
A21: Chi phí dự phòng | B21: 34113550391 | C21: 34113550391 | D21: 34113550391 | E21: 34113550391 | F21: 34113550391 | G21: 34113550391
A22: Tổng cộng | B22: =SUM(B20:B21) -> 39560421223 | C22: =SUM(C20:C21) -> 39560421223 | D22: =SUM(D20:D21) -> 39560421223 | E22: =SUM(E20:E21) -> 39560421223 | F22: =SUM(F20:F21) -> 39560421223 | G22: =SUM(G20:G21) -> 39560421223

Sheet nội suy
A1: =0,09-((0,09-0,08)*(18262722421-10000000000)/15000000000) | F1: Nb | K1: 0.475 | L1: Công thức:
F2: Na | K2: 0.65 | L2: Nt = Nb - [(Nb-Na)/(Ga-Gb)] x (Gt-Gb)
F3: Ga | K3: 10
F4: Gb | K4: 50
A5: Nt= | B5: Nb-(Nb-Na)/(Ga-Gb)*(Gt-Gb) | F5: Gt | L5: G: Quy mô giá trị
B6: =3.08-(3.08-2.99)/(500000000-200000000)*(261889273-200000000) -> 3.0614332 | F6: Nt | H6: =G6/100 -> 0 | L6: N: Định mức tư vấn
L7: a: Cận trên
L8: b: cận dưới
E9: Chi phí lập hồ sơ mời thầu và chi phí lựa chọn nhà thầu
B10: QLDA | C10: Lập DA báo cáo khả thi | D10: Chi phí thẩm định giá | E10: Thiết bị | G10: Xây dựng
A11: Nb | B11: 0.912 | C11: 0.246 | E11: 0.055 | G11: 0.04
A12: Na | B12: 1.18 | C12: 0.209 | E12: 0.043 | G12: 0.032
A13: Ga | B13: 2000 | C13: 2000 | E13: 2000 | G13: 2000
A14: Gb | B14: 1000 | C14: 1000 | E14: 1000 | G14: 1000
A15: Gt | B15: 1122 | C15: 1122 | E15: 385 | G15: 727
A16: Nt | B16: =B11-(B11-B12)/(B13-B14)*(B15-B14) -> 0.944696 | C16: =C11-(C11-C12)/(C13-C14)*(C15-C14) -> 0.241486 | D16: ='TONGCP(CONGTHUC)'!E12*2/100 -> 8.5536215e+09 | E16: =E11-(E11-E12)/(E13-E14)*(E15-E14) -> 0.06238 | G16: =G11-(G11-G12)/(G13-G14)*(G15-G14) -> 0.042184
A19: Giám sát XD | C19: Giám sát TB | D19: Chi phí thẩm tra thiết kế dự toán | G19: ='TONGCP(CONGTHUC)'!E12 -> 427681074656
A20: 0.797 | C20: 0.176 | D20: 0.029 | G20: =G19*10% -> 4.2768107e+10
A21: 0.694 | C21: 0.153 | D21: 0.028 | G21: =G19-G20 -> 3.8491297e+11
A22: 2000 | C22: 2000 | D22: 2000
A23: 1000 | C23: 1000 | D23: 1000 | G23: ='TONGCP(CONGTHUC)'!E11 -> 808000000000
A24: 808 | C24: 428 | D24: 727 | G24: =G23*10% -> 80800000000
A25: =A20-(A20-A21)/(A22-A23)*(A24-A23) -> 0.816776 | C25: =C20-(C20-C21)/(C22-C23)*(C24-C23) -> 0.189156 | D25: =D20-(D20-D21)/(D22-D23)*(D24-D23) -> 0.029273 | G25: =G23-G24 -> 727200000000
C28: Chi phí thẩm định dự án
